BEGIN:VCALENDAR
VERSION:2.0
PRODID:-//Ajuntament de El Verger - ECPv6.15.17//NONSGML v1.0//EN
CALSCALE:GREGORIAN
METHOD:PUBLISH
X-ORIGINAL-URL:https://www.elverger.es
X-WR-CALDESC:Esdeveniments per Ajuntament de El Verger
REFRESH-INTERVAL;VALUE=DURATION:PT1H
X-Robots-Tag:noindex
X-PUBLISHED-TTL:PT1H
BEGIN:VTIMEZONE
TZID:Europe/Madrid
BEGIN:DAYLIGHT
TZOFFSETFROM:+0100
TZOFFSETTO:+0200
TZNAME:CEST
DTSTART:20230326T010000
END:DAYLIGHT
BEGIN:STANDARD
TZOFFSETFROM:+0200
TZOFFSETTO:+0100
TZNAME:CET
DTSTART:20231029T010000
END:STANDARD
BEGIN:DAYLIGHT
TZOFFSETFROM:+0100
TZOFFSETTO:+0200
TZNAME:CEST
DTSTART:20240331T010000
END:DAYLIGHT
BEGIN:STANDARD
TZOFFSETFROM:+0200
TZOFFSETTO:+0100
TZNAME:CET
DTSTART:20241027T010000
END:STANDARD
BEGIN:DAYLIGHT
TZOFFSETFROM:+0100
TZOFFSETTO:+0200
TZNAME:CEST
DTSTART:20250330T010000
END:DAYLIGHT
BEGIN:STANDARD
TZOFFSETFROM:+0200
TZOFFSETTO:+0100
TZNAME:CET
DTSTART:20251026T010000
END:STANDARD
END:VTIMEZONE
BEGIN:VEVENT
DTSTART;TZID=Europe/Madrid:20241201T100000
DTEND;TZID=Europe/Madrid:20241201T200000
DTSTAMP:20260425T185405
CREATED:20241127T132917Z
LAST-MODIFIED:20241127T132917Z
UID:10026231-1733047200-1733083200@www.elverger.es
SUMMARY:Mercat de Nadal del Verger
DESCRIPTION:
URL:https://www.elverger.es/event/mercat-de-nadal-del-verger/
LOCATION:C/ Major\, C/ Major\, El Verger\, Alacant\, 03770\, España
ATTACH;FMTTYPE=image/jpeg:https://www.elverger.es/wp-content/uploads/2024/11/mercat-de-nadal.jpg
GEO:38.8443165;0.0101847
X-APPLE-STRUCTURED-LOCATION;VALUE=URI;X-ADDRESS=C/ Major C/ Major El Verger Alacant 03770 España;X-APPLE-RADIUS=500;X-TITLE=C/ Major:geo:0.0101847,38.8443165
END:VEVENT
BEGIN:VEVENT
DTSTART;TZID=Europe/Madrid:20241201T190000
DTEND;TZID=Europe/Madrid:20241201T203000
DTSTAMP:20260425T185405
CREATED:20241127T123631Z
LAST-MODIFIED:20241127T123631Z
UID:10026229-1733079600-1733085000@www.elverger.es
SUMMARY:Sainet "La Comunitat"
DESCRIPTION:
URL:https://www.elverger.es/event/sainet-la-comunitat/
LOCATION:Casa de Cultura\, C/ Mestre Jose Vives\, 8\, El Verger\, Alicante\, 03770\, España
ATTACH;FMTTYPE=image/jpeg:https://www.elverger.es/wp-content/uploads/2024/11/Sainet-La-Comunitat.jpg
GEO:38.8411635;0.0087892
X-APPLE-STRUCTURED-LOCATION;VALUE=URI;X-ADDRESS=Casa de Cultura C/ Mestre Jose Vives 8 El Verger Alicante 03770 España;X-APPLE-RADIUS=500;X-TITLE=C/ Mestre Jose Vives\, 8:geo:0.0087892,38.8411635
END:VEVENT
BEGIN:VEVENT
DTSTART;TZID=Europe/Madrid:20241212T170000
DTEND;TZID=Europe/Madrid:20241212T203000
DTSTAMP:20260425T185405
CREATED:20241212T134417Z
LAST-MODIFIED:20241212T134417Z
UID:10026233-1734022800-1734035400@www.elverger.es
SUMMARY:Donació de Sang en Nadal
DESCRIPTION:
URL:https://www.elverger.es/event/donacio-de-sang-en-nadal/
LOCATION:Casa de Cultura\, C/ Mestre Jose Vives\, 8\, El Verger\, Alicante\, 03770\, España
ATTACH;FMTTYPE=image/jpeg:https://www.elverger.es/wp-content/uploads/2024/12/donacio-de-sang.jpg
GEO:38.8411635;0.0087892
X-APPLE-STRUCTURED-LOCATION;VALUE=URI;X-ADDRESS=Casa de Cultura C/ Mestre Jose Vives 8 El Verger Alicante 03770 España;X-APPLE-RADIUS=500;X-TITLE=C/ Mestre Jose Vives\, 8:geo:0.0087892,38.8411635
END:VEVENT
BEGIN:VEVENT
DTSTART;TZID=Europe/Madrid:20241214T200000
DTEND;TZID=Europe/Madrid:20241214T220000
DTSTAMP:20260425T185405
CREATED:20241212T134256Z
LAST-MODIFIED:20241212T134256Z
UID:10026232-1734206400-1734213600@www.elverger.es
SUMMARY:Concert de Nadal de l'Orfeó El Verger
DESCRIPTION:
URL:https://www.elverger.es/event/concert-de-nadal-de-lorfeo-el-verger/
LOCATION:Esglèsia Ntra. Sra. del Roser
ATTACH;FMTTYPE=image/jpeg:https://www.elverger.es/wp-content/uploads/2024/12/orfeo.jpg
END:VEVENT
BEGIN:VEVENT
DTSTART;TZID=Europe/Madrid:20241218T193000
DTEND;TZID=Europe/Madrid:20241218T210000
DTSTAMP:20260425T185405
CREATED:20241218T102735Z
LAST-MODIFIED:20241218T103409Z
UID:10026236-1734550200-1734555600@www.elverger.es
SUMMARY:Exposició Col·lectiva "Pensar en imatges\, comunicar en pintura"
DESCRIPTION:
URL:https://www.elverger.es/event/exposicio-collectiva-pensar-en-imatges-comunicar-en-pintura-2-2/
LOCATION:Torre dels Ducs de Medinaceli\, C/ Abadia\, 2\, El Verger\, Alacant\, 03770\, España
ATTACH;FMTTYPE=image/jpeg:https://www.elverger.es/wp-content/uploads/2024/12/exposicio.jpg
GEO:38.842789;0.0103199
X-APPLE-STRUCTURED-LOCATION;VALUE=URI;X-ADDRESS=Torre dels Ducs de Medinaceli C/ Abadia 2 El Verger Alacant 03770 España;X-APPLE-RADIUS=500;X-TITLE=C/ Abadia\, 2:geo:0.0103199,38.842789
END:VEVENT
BEGIN:VEVENT
DTSTART;TZID=Europe/Madrid:20241219T170000
DTEND;TZID=Europe/Madrid:20241219T200000
DTSTAMP:20260425T185405
CREATED:20241218T102009Z
LAST-MODIFIED:20241218T103501Z
UID:10026265-1734627600-1734638400@www.elverger.es
SUMMARY:Exposició Col·lectiva "Pensar en imatges\, comunicar en pintura"
DESCRIPTION:
URL:https://www.elverger.es/event/exposicio-collectiva-pensar-en-imatges-comunicar-en-pintura-2/2024-12-19/
LOCATION:Torre dels Ducs de Medinaceli\, C/ Abadia\, 2\, El Verger\, Alacant\, 03770\, España
ATTACH;FMTTYPE=image/jpeg:https://www.elverger.es/wp-content/uploads/2024/12/exposicio.jpg
GEO:38.842789;0.0103199
X-APPLE-STRUCTURED-LOCATION;VALUE=URI;X-ADDRESS=Torre dels Ducs de Medinaceli C/ Abadia 2 El Verger Alacant 03770 España;X-APPLE-RADIUS=500;X-TITLE=C/ Abadia\, 2:geo:0.0103199,38.842789
END:VEVENT
BEGIN:VEVENT
DTSTART;TZID=Europe/Madrid:20241220T170000
DTEND;TZID=Europe/Madrid:20241220T200000
DTSTAMP:20260425T185406
CREATED:20241218T102009Z
LAST-MODIFIED:20241218T103501Z
UID:10026266-1734714000-1734724800@www.elverger.es
SUMMARY:Exposició Col·lectiva "Pensar en imatges\, comunicar en pintura"
DESCRIPTION:
URL:https://www.elverger.es/event/exposicio-collectiva-pensar-en-imatges-comunicar-en-pintura-2/2024-12-20/
LOCATION:Torre dels Ducs de Medinaceli\, C/ Abadia\, 2\, El Verger\, Alacant\, 03770\, España
ATTACH;FMTTYPE=image/jpeg:https://www.elverger.es/wp-content/uploads/2024/12/exposicio.jpg
GEO:38.842789;0.0103199
X-APPLE-STRUCTURED-LOCATION;VALUE=URI;X-ADDRESS=Torre dels Ducs de Medinaceli C/ Abadia 2 El Verger Alacant 03770 España;X-APPLE-RADIUS=500;X-TITLE=C/ Abadia\, 2:geo:0.0103199,38.842789
END:VEVENT
BEGIN:VEVENT
DTSTART;TZID=Europe/Madrid:20241221T170000
DTEND;TZID=Europe/Madrid:20241221T193000
DTSTAMP:20260425T185406
CREATED:20241217T073932Z
LAST-MODIFIED:20241217T073932Z
UID:10026234-1734800400-1734809400@www.elverger.es
SUMMARY:Dia de l'Herald
DESCRIPTION:
URL:https://www.elverger.es/event/dia-de-lherald/
LOCATION:Fàbrica de Sabó\, C/ San Antonio\, 2\, El Verger\, Alicante\, 03770\, España
ATTACH;FMTTYPE=image/jpeg:https://www.elverger.es/wp-content/uploads/2024/12/dia-de-lherald.jpg
GEO:38.8411167;0.0100748
X-APPLE-STRUCTURED-LOCATION;VALUE=URI;X-ADDRESS=Fàbrica de Sabó C/ San Antonio 2 El Verger Alicante 03770 España;X-APPLE-RADIUS=500;X-TITLE=C/ San Antonio\, 2:geo:0.0100748,38.8411167
END:VEVENT
BEGIN:VEVENT
DTSTART;TZID=Europe/Madrid:20241221T170000
DTEND;TZID=Europe/Madrid:20241221T200000
DTSTAMP:20260425T185406
CREATED:20241218T102009Z
LAST-MODIFIED:20241218T103501Z
UID:10026267-1734800400-1734811200@www.elverger.es
SUMMARY:Exposició Col·lectiva "Pensar en imatges\, comunicar en pintura"
DESCRIPTION:
URL:https://www.elverger.es/event/exposicio-collectiva-pensar-en-imatges-comunicar-en-pintura-2/2024-12-21/
LOCATION:Torre dels Ducs de Medinaceli\, C/ Abadia\, 2\, El Verger\, Alacant\, 03770\, España
ATTACH;FMTTYPE=image/jpeg:https://www.elverger.es/wp-content/uploads/2024/12/exposicio.jpg
GEO:38.842789;0.0103199
X-APPLE-STRUCTURED-LOCATION;VALUE=URI;X-ADDRESS=Torre dels Ducs de Medinaceli C/ Abadia 2 El Verger Alacant 03770 España;X-APPLE-RADIUS=500;X-TITLE=C/ Abadia\, 2:geo:0.0103199,38.842789
END:VEVENT
BEGIN:VEVENT
DTSTART;TZID=Europe/Madrid:20241224T170000
DTEND;TZID=Europe/Madrid:20241224T200000
DTSTAMP:20260425T185406
CREATED:20241218T102009Z
LAST-MODIFIED:20241218T103501Z
UID:10026268-1735059600-1735070400@www.elverger.es
SUMMARY:Exposició Col·lectiva "Pensar en imatges\, comunicar en pintura"
DESCRIPTION:
URL:https://www.elverger.es/event/exposicio-collectiva-pensar-en-imatges-comunicar-en-pintura-2/2024-12-24/
LOCATION:Torre dels Ducs de Medinaceli\, C/ Abadia\, 2\, El Verger\, Alacant\, 03770\, España
ATTACH;FMTTYPE=image/jpeg:https://www.elverger.es/wp-content/uploads/2024/12/exposicio.jpg
GEO:38.842789;0.0103199
X-APPLE-STRUCTURED-LOCATION;VALUE=URI;X-ADDRESS=Torre dels Ducs de Medinaceli C/ Abadia 2 El Verger Alacant 03770 España;X-APPLE-RADIUS=500;X-TITLE=C/ Abadia\, 2:geo:0.0103199,38.842789
END:VEVENT
BEGIN:VEVENT
DTSTART;TZID=Europe/Madrid:20241225T170000
DTEND;TZID=Europe/Madrid:20241225T200000
DTSTAMP:20260425T185406
CREATED:20241218T102009Z
LAST-MODIFIED:20241218T103501Z
UID:10026269-1735146000-1735156800@www.elverger.es
SUMMARY:Exposició Col·lectiva "Pensar en imatges\, comunicar en pintura"
DESCRIPTION:
URL:https://www.elverger.es/event/exposicio-collectiva-pensar-en-imatges-comunicar-en-pintura-2/2024-12-25/
LOCATION:Torre dels Ducs de Medinaceli\, C/ Abadia\, 2\, El Verger\, Alacant\, 03770\, España
ATTACH;FMTTYPE=image/jpeg:https://www.elverger.es/wp-content/uploads/2024/12/exposicio.jpg
GEO:38.842789;0.0103199
X-APPLE-STRUCTURED-LOCATION;VALUE=URI;X-ADDRESS=Torre dels Ducs de Medinaceli C/ Abadia 2 El Verger Alacant 03770 España;X-APPLE-RADIUS=500;X-TITLE=C/ Abadia\, 2:geo:0.0103199,38.842789
END:VEVENT
BEGIN:VEVENT
DTSTART;TZID=Europe/Madrid:20241226T170000
DTEND;TZID=Europe/Madrid:20241226T200000
DTSTAMP:20260425T185406
CREATED:20241218T102009Z
LAST-MODIFIED:20241218T103501Z
UID:10026270-1735232400-1735243200@www.elverger.es
SUMMARY:Exposició Col·lectiva "Pensar en imatges\, comunicar en pintura"
DESCRIPTION:
URL:https://www.elverger.es/event/exposicio-collectiva-pensar-en-imatges-comunicar-en-pintura-2/2024-12-26/
LOCATION:Torre dels Ducs de Medinaceli\, C/ Abadia\, 2\, El Verger\, Alacant\, 03770\, España
ATTACH;FMTTYPE=image/jpeg:https://www.elverger.es/wp-content/uploads/2024/12/exposicio.jpg
GEO:38.842789;0.0103199
X-APPLE-STRUCTURED-LOCATION;VALUE=URI;X-ADDRESS=Torre dels Ducs de Medinaceli C/ Abadia 2 El Verger Alacant 03770 España;X-APPLE-RADIUS=500;X-TITLE=C/ Abadia\, 2:geo:0.0103199,38.842789
END:VEVENT
BEGIN:VEVENT
DTSTART;TZID=Europe/Madrid:20241227T170000
DTEND;TZID=Europe/Madrid:20241227T200000
DTSTAMP:20260425T185406
CREATED:20241218T102009Z
LAST-MODIFIED:20241218T103501Z
UID:10026271-1735318800-1735329600@www.elverger.es
SUMMARY:Exposició Col·lectiva "Pensar en imatges\, comunicar en pintura"
DESCRIPTION:
URL:https://www.elverger.es/event/exposicio-collectiva-pensar-en-imatges-comunicar-en-pintura-2/2024-12-27/
LOCATION:Torre dels Ducs de Medinaceli\, C/ Abadia\, 2\, El Verger\, Alacant\, 03770\, España
ATTACH;FMTTYPE=image/jpeg:https://www.elverger.es/wp-content/uploads/2024/12/exposicio.jpg
GEO:38.842789;0.0103199
X-APPLE-STRUCTURED-LOCATION;VALUE=URI;X-ADDRESS=Torre dels Ducs de Medinaceli C/ Abadia 2 El Verger Alacant 03770 España;X-APPLE-RADIUS=500;X-TITLE=C/ Abadia\, 2:geo:0.0103199,38.842789
END:VEVENT
BEGIN:VEVENT
DTSTART;TZID=Europe/Madrid:20241228T170000
DTEND;TZID=Europe/Madrid:20241228T200000
DTSTAMP:20260425T185406
CREATED:20241218T102009Z
LAST-MODIFIED:20241218T103501Z
UID:10026272-1735405200-1735416000@www.elverger.es
SUMMARY:Exposició Col·lectiva "Pensar en imatges\, comunicar en pintura"
DESCRIPTION:
URL:https://www.elverger.es/event/exposicio-collectiva-pensar-en-imatges-comunicar-en-pintura-2/2024-12-28/
LOCATION:Torre dels Ducs de Medinaceli\, C/ Abadia\, 2\, El Verger\, Alacant\, 03770\, España
ATTACH;FMTTYPE=image/jpeg:https://www.elverger.es/wp-content/uploads/2024/12/exposicio.jpg
GEO:38.842789;0.0103199
X-APPLE-STRUCTURED-LOCATION;VALUE=URI;X-ADDRESS=Torre dels Ducs de Medinaceli C/ Abadia 2 El Verger Alacant 03770 España;X-APPLE-RADIUS=500;X-TITLE=C/ Abadia\, 2:geo:0.0103199,38.842789
END:VEVENT
BEGIN:VEVENT
DTSTART;TZID=Europe/Madrid:20241229T180000
DTEND;TZID=Europe/Madrid:20241229T190000
DTSTAMP:20260425T185406
CREATED:20241227T124034Z
LAST-MODIFIED:20241227T124105Z
UID:10026293-1735495200-1735498800@www.elverger.es
SUMMARY:X Sant Silvestre El Verger
DESCRIPTION:
URL:https://www.elverger.es/event/x-sant-silvestre-el-verger/
LOCATION:Alicante
ATTACH;FMTTYPE=image/jpeg:https://www.elverger.es/wp-content/uploads/2024/12/sant-silvestre.jpg
END:VEVENT
BEGIN:VEVENT
DTSTART;TZID=Europe/Madrid:20241231T170000
DTEND;TZID=Europe/Madrid:20241231T200000
DTSTAMP:20260425T185406
CREATED:20241218T102009Z
LAST-MODIFIED:20241218T103501Z
UID:10026273-1735664400-1735675200@www.elverger.es
SUMMARY:Exposició Col·lectiva "Pensar en imatges\, comunicar en pintura"
DESCRIPTION:
URL:https://www.elverger.es/event/exposicio-collectiva-pensar-en-imatges-comunicar-en-pintura-2/2024-12-31/
LOCATION:Torre dels Ducs de Medinaceli\, C/ Abadia\, 2\, El Verger\, Alacant\, 03770\, España
ATTACH;FMTTYPE=image/jpeg:https://www.elverger.es/wp-content/uploads/2024/12/exposicio.jpg
GEO:38.842789;0.0103199
X-APPLE-STRUCTURED-LOCATION;VALUE=URI;X-ADDRESS=Torre dels Ducs de Medinaceli C/ Abadia 2 El Verger Alacant 03770 España;X-APPLE-RADIUS=500;X-TITLE=C/ Abadia\, 2:geo:0.0103199,38.842789
END:VEVENT
END:VCALENDAR