BEGIN:VCALENDAR
VERSION:2.0
PRODID:-//Ajuntament de El Verger - ECPv6.15.17//NONSGML v1.0//EN
CALSCALE:GREGORIAN
METHOD:PUBLISH
X-WR-CALNAME:Ajuntament de El Verger
X-ORIGINAL-URL:https://www.elverger.es
X-WR-CALDESC:Esdeveniments per Ajuntament de El Verger
REFRESH-INTERVAL;VALUE=DURATION:PT1H
X-Robots-Tag:noindex
X-PUBLISHED-TTL:PT1H
BEGIN:VTIMEZONE
TZID:Europe/Madrid
BEGIN:DAYLIGHT
TZOFFSETFROM:+0100
TZOFFSETTO:+0200
TZNAME:CEST
DTSTART:20240331T010000
END:DAYLIGHT
BEGIN:STANDARD
TZOFFSETFROM:+0200
TZOFFSETTO:+0100
TZNAME:CET
DTSTART:20241027T010000
END:STANDARD
BEGIN:DAYLIGHT
TZOFFSETFROM:+0100
TZOFFSETTO:+0200
TZNAME:CEST
DTSTART:20250330T010000
END:DAYLIGHT
BEGIN:STANDARD
TZOFFSETFROM:+0200
TZOFFSETTO:+0100
TZNAME:CET
DTSTART:20251026T010000
END:STANDARD
BEGIN:DAYLIGHT
TZOFFSETFROM:+0100
TZOFFSETTO:+0200
TZNAME:CEST
DTSTART:20260329T010000
END:DAYLIGHT
BEGIN:STANDARD
TZOFFSETFROM:+0200
TZOFFSETTO:+0100
TZNAME:CET
DTSTART:20261025T010000
END:STANDARD
END:VTIMEZONE
BEGIN:VEVENT
DTSTART;TZID=Europe/Madrid:20250101T170000
DTEND;TZID=Europe/Madrid:20250101T200000
DTSTAMP:20260425T130448
CREATED:20241218T102009Z
LAST-MODIFIED:20241218T103501Z
UID:10026274-1735750800-1735761600@www.elverger.es
SUMMARY:Exposició Col·lectiva "Pensar en imatges\, comunicar en pintura"
DESCRIPTION:
URL:https://www.elverger.es/event/exposicio-collectiva-pensar-en-imatges-comunicar-en-pintura-2/2025-01-01/
LOCATION:Torre dels Ducs de Medinaceli\, C/ Abadia\, 2\, El Verger\, Alacant\, 03770\, España
ATTACH;FMTTYPE=image/jpeg:https://www.elverger.es/wp-content/uploads/2024/12/exposicio.jpg
GEO:38.842789;0.0103199
X-APPLE-STRUCTURED-LOCATION;VALUE=URI;X-ADDRESS=Torre dels Ducs de Medinaceli C/ Abadia 2 El Verger Alacant 03770 España;X-APPLE-RADIUS=500;X-TITLE=C/ Abadia\, 2:geo:0.0103199,38.842789
END:VEVENT
BEGIN:VEVENT
DTSTART;TZID=Europe/Madrid:20250102T170000
DTEND;TZID=Europe/Madrid:20250102T200000
DTSTAMP:20260425T130448
CREATED:20241218T102009Z
LAST-MODIFIED:20241218T103501Z
UID:10026275-1735837200-1735848000@www.elverger.es
SUMMARY:Exposició Col·lectiva "Pensar en imatges\, comunicar en pintura"
DESCRIPTION:
URL:https://www.elverger.es/event/exposicio-collectiva-pensar-en-imatges-comunicar-en-pintura-2/2025-01-02/
LOCATION:Torre dels Ducs de Medinaceli\, C/ Abadia\, 2\, El Verger\, Alacant\, 03770\, España
ATTACH;FMTTYPE=image/jpeg:https://www.elverger.es/wp-content/uploads/2024/12/exposicio.jpg
GEO:38.842789;0.0103199
X-APPLE-STRUCTURED-LOCATION;VALUE=URI;X-ADDRESS=Torre dels Ducs de Medinaceli C/ Abadia 2 El Verger Alacant 03770 España;X-APPLE-RADIUS=500;X-TITLE=C/ Abadia\, 2:geo:0.0103199,38.842789
END:VEVENT
BEGIN:VEVENT
DTSTART;TZID=Europe/Madrid:20250103T170000
DTEND;TZID=Europe/Madrid:20250103T200000
DTSTAMP:20260425T130448
CREATED:20241218T102009Z
LAST-MODIFIED:20241218T103501Z
UID:10026276-1735923600-1735934400@www.elverger.es
SUMMARY:Exposició Col·lectiva "Pensar en imatges\, comunicar en pintura"
DESCRIPTION:
URL:https://www.elverger.es/event/exposicio-collectiva-pensar-en-imatges-comunicar-en-pintura-2/2025-01-03/
LOCATION:Torre dels Ducs de Medinaceli\, C/ Abadia\, 2\, El Verger\, Alacant\, 03770\, España
ATTACH;FMTTYPE=image/jpeg:https://www.elverger.es/wp-content/uploads/2024/12/exposicio.jpg
GEO:38.842789;0.0103199
X-APPLE-STRUCTURED-LOCATION;VALUE=URI;X-ADDRESS=Torre dels Ducs de Medinaceli C/ Abadia 2 El Verger Alacant 03770 España;X-APPLE-RADIUS=500;X-TITLE=C/ Abadia\, 2:geo:0.0103199,38.842789
END:VEVENT
BEGIN:VEVENT
DTSTART;TZID=Europe/Madrid:20250104T170000
DTEND;TZID=Europe/Madrid:20250104T200000
DTSTAMP:20260425T130448
CREATED:20241218T102009Z
LAST-MODIFIED:20241218T103501Z
UID:10026277-1736010000-1736020800@www.elverger.es
SUMMARY:Exposició Col·lectiva "Pensar en imatges\, comunicar en pintura"
DESCRIPTION:
URL:https://www.elverger.es/event/exposicio-collectiva-pensar-en-imatges-comunicar-en-pintura-2/2025-01-04/
LOCATION:Torre dels Ducs de Medinaceli\, C/ Abadia\, 2\, El Verger\, Alacant\, 03770\, España
ATTACH;FMTTYPE=image/jpeg:https://www.elverger.es/wp-content/uploads/2024/12/exposicio.jpg
GEO:38.842789;0.0103199
X-APPLE-STRUCTURED-LOCATION;VALUE=URI;X-ADDRESS=Torre dels Ducs de Medinaceli C/ Abadia 2 El Verger Alacant 03770 España;X-APPLE-RADIUS=500;X-TITLE=C/ Abadia\, 2:geo:0.0103199,38.842789
END:VEVENT
BEGIN:VEVENT
DTSTART;TZID=Europe/Madrid:20250107T170000
DTEND;TZID=Europe/Madrid:20250107T200000
DTSTAMP:20260425T130448
CREATED:20241218T102009Z
LAST-MODIFIED:20241218T103501Z
UID:10026278-1736269200-1736280000@www.elverger.es
SUMMARY:Exposició Col·lectiva "Pensar en imatges\, comunicar en pintura"
DESCRIPTION:
URL:https://www.elverger.es/event/exposicio-collectiva-pensar-en-imatges-comunicar-en-pintura-2/2025-01-07/
LOCATION:Torre dels Ducs de Medinaceli\, C/ Abadia\, 2\, El Verger\, Alacant\, 03770\, España
ATTACH;FMTTYPE=image/jpeg:https://www.elverger.es/wp-content/uploads/2024/12/exposicio.jpg
GEO:38.842789;0.0103199
X-APPLE-STRUCTURED-LOCATION;VALUE=URI;X-ADDRESS=Torre dels Ducs de Medinaceli C/ Abadia 2 El Verger Alacant 03770 España;X-APPLE-RADIUS=500;X-TITLE=C/ Abadia\, 2:geo:0.0103199,38.842789
END:VEVENT
BEGIN:VEVENT
DTSTART;TZID=Europe/Madrid:20250108T170000
DTEND;TZID=Europe/Madrid:20250108T200000
DTSTAMP:20260425T130448
CREATED:20241218T102009Z
LAST-MODIFIED:20241218T103501Z
UID:10026279-1736355600-1736366400@www.elverger.es
SUMMARY:Exposició Col·lectiva "Pensar en imatges\, comunicar en pintura"
DESCRIPTION:
URL:https://www.elverger.es/event/exposicio-collectiva-pensar-en-imatges-comunicar-en-pintura-2/2025-01-08/
LOCATION:Torre dels Ducs de Medinaceli\, C/ Abadia\, 2\, El Verger\, Alacant\, 03770\, España
ATTACH;FMTTYPE=image/jpeg:https://www.elverger.es/wp-content/uploads/2024/12/exposicio.jpg
GEO:38.842789;0.0103199
X-APPLE-STRUCTURED-LOCATION;VALUE=URI;X-ADDRESS=Torre dels Ducs de Medinaceli C/ Abadia 2 El Verger Alacant 03770 España;X-APPLE-RADIUS=500;X-TITLE=C/ Abadia\, 2:geo:0.0103199,38.842789
END:VEVENT
BEGIN:VEVENT
DTSTART;TZID=Europe/Madrid:20250109T170000
DTEND;TZID=Europe/Madrid:20250109T200000
DTSTAMP:20260425T130448
CREATED:20241218T102009Z
LAST-MODIFIED:20241218T103501Z
UID:10026280-1736442000-1736452800@www.elverger.es
SUMMARY:Exposició Col·lectiva "Pensar en imatges\, comunicar en pintura"
DESCRIPTION:
URL:https://www.elverger.es/event/exposicio-collectiva-pensar-en-imatges-comunicar-en-pintura-2/2025-01-09/
LOCATION:Torre dels Ducs de Medinaceli\, C/ Abadia\, 2\, El Verger\, Alacant\, 03770\, España
ATTACH;FMTTYPE=image/jpeg:https://www.elverger.es/wp-content/uploads/2024/12/exposicio.jpg
GEO:38.842789;0.0103199
X-APPLE-STRUCTURED-LOCATION;VALUE=URI;X-ADDRESS=Torre dels Ducs de Medinaceli C/ Abadia 2 El Verger Alacant 03770 España;X-APPLE-RADIUS=500;X-TITLE=C/ Abadia\, 2:geo:0.0103199,38.842789
END:VEVENT
BEGIN:VEVENT
DTSTART;TZID=Europe/Madrid:20250110T170000
DTEND;TZID=Europe/Madrid:20250110T200000
DTSTAMP:20260425T130448
CREATED:20241218T102009Z
LAST-MODIFIED:20241218T103501Z
UID:10026281-1736528400-1736539200@www.elverger.es
SUMMARY:Exposició Col·lectiva "Pensar en imatges\, comunicar en pintura"
DESCRIPTION:
URL:https://www.elverger.es/event/exposicio-collectiva-pensar-en-imatges-comunicar-en-pintura-2/2025-01-10/
LOCATION:Torre dels Ducs de Medinaceli\, C/ Abadia\, 2\, El Verger\, Alacant\, 03770\, España
ATTACH;FMTTYPE=image/jpeg:https://www.elverger.es/wp-content/uploads/2024/12/exposicio.jpg
GEO:38.842789;0.0103199
X-APPLE-STRUCTURED-LOCATION;VALUE=URI;X-ADDRESS=Torre dels Ducs de Medinaceli C/ Abadia 2 El Verger Alacant 03770 España;X-APPLE-RADIUS=500;X-TITLE=C/ Abadia\, 2:geo:0.0103199,38.842789
END:VEVENT
BEGIN:VEVENT
DTSTART;TZID=Europe/Madrid:20250111T170000
DTEND;TZID=Europe/Madrid:20250111T200000
DTSTAMP:20260425T130448
CREATED:20241218T102009Z
LAST-MODIFIED:20241218T103501Z
UID:10026282-1736614800-1736625600@www.elverger.es
SUMMARY:Exposició Col·lectiva "Pensar en imatges\, comunicar en pintura"
DESCRIPTION:
URL:https://www.elverger.es/event/exposicio-collectiva-pensar-en-imatges-comunicar-en-pintura-2/2025-01-11/
LOCATION:Torre dels Ducs de Medinaceli\, C/ Abadia\, 2\, El Verger\, Alacant\, 03770\, España
ATTACH;FMTTYPE=image/jpeg:https://www.elverger.es/wp-content/uploads/2024/12/exposicio.jpg
GEO:38.842789;0.0103199
X-APPLE-STRUCTURED-LOCATION;VALUE=URI;X-ADDRESS=Torre dels Ducs de Medinaceli C/ Abadia 2 El Verger Alacant 03770 España;X-APPLE-RADIUS=500;X-TITLE=C/ Abadia\, 2:geo:0.0103199,38.842789
END:VEVENT
BEGIN:VEVENT
DTSTART;TZID=Europe/Madrid:20250114T170000
DTEND;TZID=Europe/Madrid:20250114T200000
DTSTAMP:20260425T130448
CREATED:20241218T102009Z
LAST-MODIFIED:20241218T103501Z
UID:10026283-1736874000-1736884800@www.elverger.es
SUMMARY:Exposició Col·lectiva "Pensar en imatges\, comunicar en pintura"
DESCRIPTION:
URL:https://www.elverger.es/event/exposicio-collectiva-pensar-en-imatges-comunicar-en-pintura-2/2025-01-14/
LOCATION:Torre dels Ducs de Medinaceli\, C/ Abadia\, 2\, El Verger\, Alacant\, 03770\, España
ATTACH;FMTTYPE=image/jpeg:https://www.elverger.es/wp-content/uploads/2024/12/exposicio.jpg
GEO:38.842789;0.0103199
X-APPLE-STRUCTURED-LOCATION;VALUE=URI;X-ADDRESS=Torre dels Ducs de Medinaceli C/ Abadia 2 El Verger Alacant 03770 España;X-APPLE-RADIUS=500;X-TITLE=C/ Abadia\, 2:geo:0.0103199,38.842789
END:VEVENT
BEGIN:VEVENT
DTSTART;TZID=Europe/Madrid:20250115T170000
DTEND;TZID=Europe/Madrid:20250115T200000
DTSTAMP:20260425T130448
CREATED:20241218T102009Z
LAST-MODIFIED:20241218T103501Z
UID:10026284-1736960400-1736971200@www.elverger.es
SUMMARY:Exposició Col·lectiva "Pensar en imatges\, comunicar en pintura"
DESCRIPTION:
URL:https://www.elverger.es/event/exposicio-collectiva-pensar-en-imatges-comunicar-en-pintura-2/2025-01-15/
LOCATION:Torre dels Ducs de Medinaceli\, C/ Abadia\, 2\, El Verger\, Alacant\, 03770\, España
ATTACH;FMTTYPE=image/jpeg:https://www.elverger.es/wp-content/uploads/2024/12/exposicio.jpg
GEO:38.842789;0.0103199
X-APPLE-STRUCTURED-LOCATION;VALUE=URI;X-ADDRESS=Torre dels Ducs de Medinaceli C/ Abadia 2 El Verger Alacant 03770 España;X-APPLE-RADIUS=500;X-TITLE=C/ Abadia\, 2:geo:0.0103199,38.842789
END:VEVENT
BEGIN:VEVENT
DTSTART;TZID=Europe/Madrid:20250116T170000
DTEND;TZID=Europe/Madrid:20250116T200000
DTSTAMP:20260425T130448
CREATED:20241218T102009Z
LAST-MODIFIED:20241218T103501Z
UID:10026285-1737046800-1737057600@www.elverger.es
SUMMARY:Exposició Col·lectiva "Pensar en imatges\, comunicar en pintura"
DESCRIPTION:
URL:https://www.elverger.es/event/exposicio-collectiva-pensar-en-imatges-comunicar-en-pintura-2/2025-01-16/
LOCATION:Torre dels Ducs de Medinaceli\, C/ Abadia\, 2\, El Verger\, Alacant\, 03770\, España
ATTACH;FMTTYPE=image/jpeg:https://www.elverger.es/wp-content/uploads/2024/12/exposicio.jpg
GEO:38.842789;0.0103199
X-APPLE-STRUCTURED-LOCATION;VALUE=URI;X-ADDRESS=Torre dels Ducs de Medinaceli C/ Abadia 2 El Verger Alacant 03770 España;X-APPLE-RADIUS=500;X-TITLE=C/ Abadia\, 2:geo:0.0103199,38.842789
END:VEVENT
BEGIN:VEVENT
DTSTART;TZID=Europe/Madrid:20250117T170000
DTEND;TZID=Europe/Madrid:20250117T200000
DTSTAMP:20260425T130448
CREATED:20241218T102009Z
LAST-MODIFIED:20241218T103501Z
UID:10026286-1737133200-1737144000@www.elverger.es
SUMMARY:Exposició Col·lectiva "Pensar en imatges\, comunicar en pintura"
DESCRIPTION:
URL:https://www.elverger.es/event/exposicio-collectiva-pensar-en-imatges-comunicar-en-pintura-2/2025-01-17/
LOCATION:Torre dels Ducs de Medinaceli\, C/ Abadia\, 2\, El Verger\, Alacant\, 03770\, España
ATTACH;FMTTYPE=image/jpeg:https://www.elverger.es/wp-content/uploads/2024/12/exposicio.jpg
GEO:38.842789;0.0103199
X-APPLE-STRUCTURED-LOCATION;VALUE=URI;X-ADDRESS=Torre dels Ducs de Medinaceli C/ Abadia 2 El Verger Alacant 03770 España;X-APPLE-RADIUS=500;X-TITLE=C/ Abadia\, 2:geo:0.0103199,38.842789
END:VEVENT
BEGIN:VEVENT
DTSTART;TZID=Europe/Madrid:20250118T170000
DTEND;TZID=Europe/Madrid:20250118T200000
DTSTAMP:20260425T130448
CREATED:20241218T102009Z
LAST-MODIFIED:20241218T103501Z
UID:10026287-1737219600-1737230400@www.elverger.es
SUMMARY:Exposició Col·lectiva "Pensar en imatges\, comunicar en pintura"
DESCRIPTION:
URL:https://www.elverger.es/event/exposicio-collectiva-pensar-en-imatges-comunicar-en-pintura-2/2025-01-18/
LOCATION:Torre dels Ducs de Medinaceli\, C/ Abadia\, 2\, El Verger\, Alacant\, 03770\, España
ATTACH;FMTTYPE=image/jpeg:https://www.elverger.es/wp-content/uploads/2024/12/exposicio.jpg
GEO:38.842789;0.0103199
X-APPLE-STRUCTURED-LOCATION;VALUE=URI;X-ADDRESS=Torre dels Ducs de Medinaceli C/ Abadia 2 El Verger Alacant 03770 España;X-APPLE-RADIUS=500;X-TITLE=C/ Abadia\, 2:geo:0.0103199,38.842789
END:VEVENT
BEGIN:VEVENT
DTSTART;TZID=Europe/Madrid:20250121T170000
DTEND;TZID=Europe/Madrid:20250121T200000
DTSTAMP:20260425T130448
CREATED:20241218T102009Z
LAST-MODIFIED:20241218T103501Z
UID:10026288-1737478800-1737489600@www.elverger.es
SUMMARY:Exposició Col·lectiva "Pensar en imatges\, comunicar en pintura"
DESCRIPTION:
URL:https://www.elverger.es/event/exposicio-collectiva-pensar-en-imatges-comunicar-en-pintura-2/2025-01-21/
LOCATION:Torre dels Ducs de Medinaceli\, C/ Abadia\, 2\, El Verger\, Alacant\, 03770\, España
ATTACH;FMTTYPE=image/jpeg:https://www.elverger.es/wp-content/uploads/2024/12/exposicio.jpg
GEO:38.842789;0.0103199
X-APPLE-STRUCTURED-LOCATION;VALUE=URI;X-ADDRESS=Torre dels Ducs de Medinaceli C/ Abadia 2 El Verger Alacant 03770 España;X-APPLE-RADIUS=500;X-TITLE=C/ Abadia\, 2:geo:0.0103199,38.842789
END:VEVENT
BEGIN:VEVENT
DTSTART;TZID=Europe/Madrid:20250122T170000
DTEND;TZID=Europe/Madrid:20250122T200000
DTSTAMP:20260425T130448
CREATED:20241218T102009Z
LAST-MODIFIED:20241218T103501Z
UID:10026289-1737565200-1737576000@www.elverger.es
SUMMARY:Exposició Col·lectiva "Pensar en imatges\, comunicar en pintura"
DESCRIPTION:
URL:https://www.elverger.es/event/exposicio-collectiva-pensar-en-imatges-comunicar-en-pintura-2/2025-01-22/
LOCATION:Torre dels Ducs de Medinaceli\, C/ Abadia\, 2\, El Verger\, Alacant\, 03770\, España
ATTACH;FMTTYPE=image/jpeg:https://www.elverger.es/wp-content/uploads/2024/12/exposicio.jpg
GEO:38.842789;0.0103199
X-APPLE-STRUCTURED-LOCATION;VALUE=URI;X-ADDRESS=Torre dels Ducs de Medinaceli C/ Abadia 2 El Verger Alacant 03770 España;X-APPLE-RADIUS=500;X-TITLE=C/ Abadia\, 2:geo:0.0103199,38.842789
END:VEVENT
BEGIN:VEVENT
DTSTART;TZID=Europe/Madrid:20250123T170000
DTEND;TZID=Europe/Madrid:20250123T200000
DTSTAMP:20260425T130448
CREATED:20241218T102009Z
LAST-MODIFIED:20241218T103501Z
UID:10026290-1737651600-1737662400@www.elverger.es
SUMMARY:Exposició Col·lectiva "Pensar en imatges\, comunicar en pintura"
DESCRIPTION:
URL:https://www.elverger.es/event/exposicio-collectiva-pensar-en-imatges-comunicar-en-pintura-2/2025-01-23/
LOCATION:Torre dels Ducs de Medinaceli\, C/ Abadia\, 2\, El Verger\, Alacant\, 03770\, España
ATTACH;FMTTYPE=image/jpeg:https://www.elverger.es/wp-content/uploads/2024/12/exposicio.jpg
GEO:38.842789;0.0103199
X-APPLE-STRUCTURED-LOCATION;VALUE=URI;X-ADDRESS=Torre dels Ducs de Medinaceli C/ Abadia 2 El Verger Alacant 03770 España;X-APPLE-RADIUS=500;X-TITLE=C/ Abadia\, 2:geo:0.0103199,38.842789
END:VEVENT
BEGIN:VEVENT
DTSTART;TZID=Europe/Madrid:20250124T170000
DTEND;TZID=Europe/Madrid:20250124T200000
DTSTAMP:20260425T130448
CREATED:20241218T102009Z
LAST-MODIFIED:20241218T103501Z
UID:10026291-1737738000-1737748800@www.elverger.es
SUMMARY:Exposició Col·lectiva "Pensar en imatges\, comunicar en pintura"
DESCRIPTION:
URL:https://www.elverger.es/event/exposicio-collectiva-pensar-en-imatges-comunicar-en-pintura-2/2025-01-24/
LOCATION:Torre dels Ducs de Medinaceli\, C/ Abadia\, 2\, El Verger\, Alacant\, 03770\, España
ATTACH;FMTTYPE=image/jpeg:https://www.elverger.es/wp-content/uploads/2024/12/exposicio.jpg
GEO:38.842789;0.0103199
X-APPLE-STRUCTURED-LOCATION;VALUE=URI;X-ADDRESS=Torre dels Ducs de Medinaceli C/ Abadia 2 El Verger Alacant 03770 España;X-APPLE-RADIUS=500;X-TITLE=C/ Abadia\, 2:geo:0.0103199,38.842789
END:VEVENT
BEGIN:VEVENT
DTSTART;TZID=Europe/Madrid:20250125T123000
DTEND;TZID=Europe/Madrid:20250125T133000
DTSTAMP:20260425T130448
CREATED:20250122T101320Z
LAST-MODIFIED:20250122T101320Z
UID:10026295-1737808200-1737811800@www.elverger.es
SUMMARY:Encesa de Torres pels Drets Humans
DESCRIPTION:
URL:https://www.elverger.es/event/encesa-de-torres-pels-drets-humans/
LOCATION:Torre dels Ducs de Medinaceli\, C/ Abadia\, 2\, El Verger\, Alacant\, 03770\, España
ATTACH;FMTTYPE=image/jpeg:https://www.elverger.es/wp-content/uploads/2025/01/encesa.jpg
GEO:38.842789;0.0103199
X-APPLE-STRUCTURED-LOCATION;VALUE=URI;X-ADDRESS=Torre dels Ducs de Medinaceli C/ Abadia 2 El Verger Alacant 03770 España;X-APPLE-RADIUS=500;X-TITLE=C/ Abadia\, 2:geo:0.0103199,38.842789
END:VEVENT
BEGIN:VEVENT
DTSTART;TZID=Europe/Madrid:20250125T170000
DTEND;TZID=Europe/Madrid:20250125T200000
DTSTAMP:20260425T130448
CREATED:20241218T102009Z
LAST-MODIFIED:20241218T103501Z
UID:10026292-1737824400-1737835200@www.elverger.es
SUMMARY:Exposició Col·lectiva "Pensar en imatges\, comunicar en pintura"
DESCRIPTION:
URL:https://www.elverger.es/event/exposicio-collectiva-pensar-en-imatges-comunicar-en-pintura-2/2025-01-25/
LOCATION:Torre dels Ducs de Medinaceli\, C/ Abadia\, 2\, El Verger\, Alacant\, 03770\, España
ATTACH;FMTTYPE=image/jpeg:https://www.elverger.es/wp-content/uploads/2024/12/exposicio.jpg
GEO:38.842789;0.0103199
X-APPLE-STRUCTURED-LOCATION;VALUE=URI;X-ADDRESS=Torre dels Ducs de Medinaceli C/ Abadia 2 El Verger Alacant 03770 España;X-APPLE-RADIUS=500;X-TITLE=C/ Abadia\, 2:geo:0.0103199,38.842789
END:VEVENT
BEGIN:VEVENT
DTSTART;TZID=Europe/Madrid:20250125T193000
DTEND;TZID=Europe/Madrid:20250125T210000
DTSTAMP:20260425T130448
CREATED:20250122T102347Z
LAST-MODIFIED:20250122T102347Z
UID:10026296-1737833400-1737838800@www.elverger.es
SUMMARY:Concert de les Obres Finalistes i Entrega de Premis "V Concurs Composició de Música Festera"
DESCRIPTION:
URL:https://www.elverger.es/event/concert-de-les-obres-finalistes-i-entrega-de-premis-v-concurs-composicio-de-musica-festera/
LOCATION:Casa de Cultura\, C/ Mestre Jose Vives\, 8\, El Verger\, Alicante\, 03770\, España
ATTACH;FMTTYPE=image/jpeg:https://www.elverger.es/wp-content/uploads/2025/01/concurs-composicio.jpg
GEO:38.8411635;0.0087892
X-APPLE-STRUCTURED-LOCATION;VALUE=URI;X-ADDRESS=Casa de Cultura C/ Mestre Jose Vives 8 El Verger Alicante 03770 España;X-APPLE-RADIUS=500;X-TITLE=C/ Mestre Jose Vives\, 8:geo:0.0087892,38.8411635
END:VEVENT
BEGIN:VEVENT
DTSTART;TZID=Europe/Madrid:20250125T210000
DTEND;TZID=Europe/Madrid:20250125T233000
DTSTAMP:20260425T130448
CREATED:20250122T102520Z
LAST-MODIFIED:20250122T102520Z
UID:10026297-1737838800-1737847800@www.elverger.es
SUMMARY:Sopar de Gala
DESCRIPTION:
URL:https://www.elverger.es/event/sopar-de-gala/
LOCATION:Fàbrica de Sabó\, C/ San Antonio\, 2\, El Verger\, Alicante\, 03770\, España
ATTACH;FMTTYPE=image/jpeg:https://www.elverger.es/wp-content/uploads/2025/01/sopar.jpg
GEO:38.8411167;0.0100748
X-APPLE-STRUCTURED-LOCATION;VALUE=URI;X-ADDRESS=Fàbrica de Sabó C/ San Antonio 2 El Verger Alicante 03770 España;X-APPLE-RADIUS=500;X-TITLE=C/ San Antonio\, 2:geo:0.0100748,38.8411167
END:VEVENT
BEGIN:VEVENT
DTSTART;TZID=Europe/Madrid:20250126T113000
DTEND;TZID=Europe/Madrid:20250126T130000
DTSTAMP:20260425T130448
CREATED:20250122T102746Z
LAST-MODIFIED:20250122T102746Z
UID:10026298-1737891000-1737896400@www.elverger.es
SUMMARY:Celebració de Sant Antoni El Verger 2025
DESCRIPTION:
URL:https://www.elverger.es/event/celebracio-de-sant-antoni-el-verger-2025/
LOCATION:FILA ABUBEKERS
ATTACH;FMTTYPE=image/jpeg:https://www.elverger.es/wp-content/uploads/2025/01/sant-antoni.jpg
END:VEVENT
BEGIN:VEVENT
DTSTART;TZID=Europe/Madrid:20250130T170000
DTEND;TZID=Europe/Madrid:20250130T200000
DTSTAMP:20260425T130448
CREATED:20250131T114139Z
LAST-MODIFIED:20250131T114503Z
UID:10026299-1738256400-1738267200@www.elverger.es
SUMMARY:Exposició Col·lectiva grup d'Investigació de L'UMH "Material Inmaterial"
DESCRIPTION:
URL:https://www.elverger.es/event/exposicio-collectiva-grup-dinvestigacio-de-lumh-material-inmaterial/2025-01-30/
LOCATION:Torre dels Ducs de Medinaceli\, C/ Abadia\, 2\, El Verger\, Alacant\, 03770\, España
ATTACH;FMTTYPE=image/jpeg:https://www.elverger.es/wp-content/uploads/2025/01/material-inmaterial.jpeg
GEO:38.842789;0.0103199
X-APPLE-STRUCTURED-LOCATION;VALUE=URI;X-ADDRESS=Torre dels Ducs de Medinaceli C/ Abadia 2 El Verger Alacant 03770 España;X-APPLE-RADIUS=500;X-TITLE=C/ Abadia\, 2:geo:0.0103199,38.842789
END:VEVENT
BEGIN:VEVENT
DTSTART;TZID=Europe/Madrid:20250131T170000
DTEND;TZID=Europe/Madrid:20250131T200000
DTSTAMP:20260425T130448
CREATED:20250131T114139Z
LAST-MODIFIED:20250131T114503Z
UID:10026300-1738342800-1738353600@www.elverger.es
SUMMARY:Exposició Col·lectiva grup d'Investigació de L'UMH "Material Inmaterial"
DESCRIPTION:
URL:https://www.elverger.es/event/exposicio-collectiva-grup-dinvestigacio-de-lumh-material-inmaterial/2025-01-31/
LOCATION:Torre dels Ducs de Medinaceli\, C/ Abadia\, 2\, El Verger\, Alacant\, 03770\, España
ATTACH;FMTTYPE=image/jpeg:https://www.elverger.es/wp-content/uploads/2025/01/material-inmaterial.jpeg
GEO:38.842789;0.0103199
X-APPLE-STRUCTURED-LOCATION;VALUE=URI;X-ADDRESS=Torre dels Ducs de Medinaceli C/ Abadia 2 El Verger Alacant 03770 España;X-APPLE-RADIUS=500;X-TITLE=C/ Abadia\, 2:geo:0.0103199,38.842789
END:VEVENT
END:VCALENDAR