BEGIN:VCALENDAR
VERSION:2.0
PRODID:-//Ajuntament de El Verger - ECPv6.15.17//NONSGML v1.0//EN
CALSCALE:GREGORIAN
METHOD:PUBLISH
X-WR-CALNAME:Ajuntament de El Verger
X-ORIGINAL-URL:https://www.elverger.es
X-WR-CALDESC:Esdeveniments per Ajuntament de El Verger
REFRESH-INTERVAL;VALUE=DURATION:PT1H
X-Robots-Tag:noindex
X-PUBLISHED-TTL:PT1H
BEGIN:VTIMEZONE
TZID:Europe/Madrid
BEGIN:DAYLIGHT
TZOFFSETFROM:+0100
TZOFFSETTO:+0200
TZNAME:CEST
DTSTART:20240331T010000
END:DAYLIGHT
BEGIN:STANDARD
TZOFFSETFROM:+0200
TZOFFSETTO:+0100
TZNAME:CET
DTSTART:20241027T010000
END:STANDARD
BEGIN:DAYLIGHT
TZOFFSETFROM:+0100
TZOFFSETTO:+0200
TZNAME:CEST
DTSTART:20250330T010000
END:DAYLIGHT
BEGIN:STANDARD
TZOFFSETFROM:+0200
TZOFFSETTO:+0100
TZNAME:CET
DTSTART:20251026T010000
END:STANDARD
BEGIN:DAYLIGHT
TZOFFSETFROM:+0100
TZOFFSETTO:+0200
TZNAME:CEST
DTSTART:20260329T010000
END:DAYLIGHT
BEGIN:STANDARD
TZOFFSETFROM:+0200
TZOFFSETTO:+0100
TZNAME:CET
DTSTART:20261025T010000
END:STANDARD
END:VTIMEZONE
BEGIN:VEVENT
DTSTART;TZID=Europe/Madrid:20250306T170000
DTEND;TZID=Europe/Madrid:20250306T200000
DTSTAMP:20260425T011347
CREATED:20250304T104253Z
LAST-MODIFIED:20250304T104253Z
UID:10026327-1741280400-1741291200@www.elverger.es
SUMMARY:Exposició "Pecados de Francis Morell"
DESCRIPTION:
URL:https://www.elverger.es/event/exposicio-pecados-de-francis-morell-2/
LOCATION:Torre dels Ducs de Medinaceli\, C/ Abadia\, 2\, El Verger\, Alacant\, 03770\, España
ATTACH;FMTTYPE=image/jpeg:https://www.elverger.es/wp-content/uploads/2025/03/Pecados-de-Francis-Morell.jpg
GEO:38.842789;0.0103199
X-APPLE-STRUCTURED-LOCATION;VALUE=URI;X-ADDRESS=Torre dels Ducs de Medinaceli C/ Abadia 2 El Verger Alacant 03770 España;X-APPLE-RADIUS=500;X-TITLE=C/ Abadia\, 2:geo:0.0103199,38.842789
END:VEVENT
BEGIN:VEVENT
DTSTART;TZID=Europe/Madrid:20250309T090000
DTEND;TZID=Europe/Madrid:20250309T190000
DTSTAMP:20260425T011347
CREATED:20250307T125832Z
LAST-MODIFIED:20250307T125832Z
UID:10026354-1741510800-1741546800@www.elverger.es
SUMMARY:43 Jocs Esportius de la Comunitat Valenciana "Galotxa"
DESCRIPTION:
URL:https://www.elverger.es/event/43-jocs-esportius-de-la-comunitat-valenciana-galotxa/
LOCATION:Carrer de la Pilota\, C/ Xabia\, El Verger\, Alacant\, 03770\, España
ATTACH;FMTTYPE=image/jpeg:https://www.elverger.es/wp-content/uploads/2025/03/galotxa.jpg
GEO:38.8432005;0.0150727
X-APPLE-STRUCTURED-LOCATION;VALUE=URI;X-ADDRESS=Carrer de la Pilota C/ Xabia El Verger Alacant 03770 España;X-APPLE-RADIUS=500;X-TITLE=C/ Xabia:geo:0.0150727,38.8432005
END:VEVENT
BEGIN:VEVENT
DTSTART;TZID=Europe/Madrid:20250309T183000
DTEND;TZID=Europe/Madrid:20250309T200000
DTSTAMP:20260425T011347
CREATED:20250205T082634Z
LAST-MODIFIED:20250205T082635Z
UID:10026321-1741545000-1741550400@www.elverger.es
SUMMARY:Sainet "La maldició de la gitana i les nores són un cel"
DESCRIPTION:
URL:https://www.elverger.es/event/sainet-la-maldicio-de-la-gitana-i-les-nores-son-un-cel/
LOCATION:Casa de Cultura\, C/ Mestre Jose Vives\, 8\, El Verger\, Alicante\, 03770\, España
ATTACH;FMTTYPE=image/jpeg:https://www.elverger.es/wp-content/uploads/2025/02/Nit-de-sainets.jpg
GEO:38.8411635;0.0087892
X-APPLE-STRUCTURED-LOCATION;VALUE=URI;X-ADDRESS=Casa de Cultura C/ Mestre Jose Vives 8 El Verger Alicante 03770 España;X-APPLE-RADIUS=500;X-TITLE=C/ Mestre Jose Vives\, 8:geo:0.0087892,38.8411635
END:VEVENT
BEGIN:VEVENT
DTSTART;TZID=Europe/Madrid:20250312T200000
DTEND;TZID=Europe/Madrid:20250312T220000
DTSTAMP:20260425T011347
CREATED:20250304T103930Z
LAST-MODIFIED:20250307T125932Z
UID:10026326-1741809600-1741816800@www.elverger.es
SUMMARY:Exposició "Pecados de Francis Morell"
DESCRIPTION:
URL:https://www.elverger.es/event/exposicio-pecados-de-francis-morell/
LOCATION:Torre dels Ducs de Medinaceli\, C/ Abadia\, 2\, El Verger\, Alacant\, 03770\, España
ATTACH;FMTTYPE=image/jpeg:https://www.elverger.es/wp-content/uploads/2025/03/Pecados-de-Francis-Morell.jpg
GEO:38.842789;0.0103199
X-APPLE-STRUCTURED-LOCATION;VALUE=URI;X-ADDRESS=Torre dels Ducs de Medinaceli C/ Abadia 2 El Verger Alacant 03770 España;X-APPLE-RADIUS=500;X-TITLE=C/ Abadia\, 2:geo:0.0103199,38.842789
END:VEVENT
BEGIN:VEVENT
DTSTART;TZID=Europe/Madrid:20250313T170000
DTEND;TZID=Europe/Madrid:20250313T200000
DTSTAMP:20260425T011347
CREATED:20250307T130015Z
LAST-MODIFIED:20250307T130015Z
UID:10026328-1741885200-1741896000@www.elverger.es
SUMMARY:Exposició "Pecados de Francis Morell"
DESCRIPTION:
URL:https://www.elverger.es/event/exposicio-pecados-de-francis-morell-2-2/2025-03-13/
LOCATION:Torre dels Ducs de Medinaceli\, C/ Abadia\, 2\, El Verger\, Alacant\, 03770\, España
ATTACH;FMTTYPE=image/jpeg:https://www.elverger.es/wp-content/uploads/2025/03/Pecados-de-Francis-Morell.jpg
GEO:38.842789;0.0103199
X-APPLE-STRUCTURED-LOCATION;VALUE=URI;X-ADDRESS=Torre dels Ducs de Medinaceli C/ Abadia 2 El Verger Alacant 03770 España;X-APPLE-RADIUS=500;X-TITLE=C/ Abadia\, 2:geo:0.0103199,38.842789
END:VEVENT
BEGIN:VEVENT
DTSTART;TZID=Europe/Madrid:20250315T170000
DTEND;TZID=Europe/Madrid:20250315T200000
DTSTAMP:20260425T011347
CREATED:20250307T130015Z
LAST-MODIFIED:20250307T130015Z
UID:10026334-1742058000-1742068800@www.elverger.es
SUMMARY:Exposició "Pecados de Francis Morell"
DESCRIPTION:
URL:https://www.elverger.es/event/exposicio-pecados-de-francis-morell-2-2/2025-03-15/
LOCATION:Torre dels Ducs de Medinaceli\, C/ Abadia\, 2\, El Verger\, Alacant\, 03770\, España
ATTACH;FMTTYPE=image/jpeg:https://www.elverger.es/wp-content/uploads/2025/03/Pecados-de-Francis-Morell.jpg
GEO:38.842789;0.0103199
X-APPLE-STRUCTURED-LOCATION;VALUE=URI;X-ADDRESS=Torre dels Ducs de Medinaceli C/ Abadia 2 El Verger Alacant 03770 España;X-APPLE-RADIUS=500;X-TITLE=C/ Abadia\, 2:geo:0.0103199,38.842789
END:VEVENT
BEGIN:VEVENT
DTSTART;TZID=Europe/Madrid:20250318T170000
DTEND;TZID=Europe/Madrid:20250318T200000
DTSTAMP:20260425T011347
CREATED:20250307T130015Z
LAST-MODIFIED:20250307T130015Z
UID:10026335-1742317200-1742328000@www.elverger.es
SUMMARY:Exposició "Pecados de Francis Morell"
DESCRIPTION:
URL:https://www.elverger.es/event/exposicio-pecados-de-francis-morell-2-2/2025-03-18/
LOCATION:Torre dels Ducs de Medinaceli\, C/ Abadia\, 2\, El Verger\, Alacant\, 03770\, España
ATTACH;FMTTYPE=image/jpeg:https://www.elverger.es/wp-content/uploads/2025/03/Pecados-de-Francis-Morell.jpg
GEO:38.842789;0.0103199
X-APPLE-STRUCTURED-LOCATION;VALUE=URI;X-ADDRESS=Torre dels Ducs de Medinaceli C/ Abadia 2 El Verger Alacant 03770 España;X-APPLE-RADIUS=500;X-TITLE=C/ Abadia\, 2:geo:0.0103199,38.842789
END:VEVENT
BEGIN:VEVENT
DTSTART;TZID=Europe/Madrid:20250319T170000
DTEND;TZID=Europe/Madrid:20250319T200000
DTSTAMP:20260425T011347
CREATED:20250307T130015Z
LAST-MODIFIED:20250307T130015Z
UID:10026336-1742403600-1742414400@www.elverger.es
SUMMARY:Exposició "Pecados de Francis Morell"
DESCRIPTION:
URL:https://www.elverger.es/event/exposicio-pecados-de-francis-morell-2-2/2025-03-19/
LOCATION:Torre dels Ducs de Medinaceli\, C/ Abadia\, 2\, El Verger\, Alacant\, 03770\, España
ATTACH;FMTTYPE=image/jpeg:https://www.elverger.es/wp-content/uploads/2025/03/Pecados-de-Francis-Morell.jpg
GEO:38.842789;0.0103199
X-APPLE-STRUCTURED-LOCATION;VALUE=URI;X-ADDRESS=Torre dels Ducs de Medinaceli C/ Abadia 2 El Verger Alacant 03770 España;X-APPLE-RADIUS=500;X-TITLE=C/ Abadia\, 2:geo:0.0103199,38.842789
END:VEVENT
BEGIN:VEVENT
DTSTART;TZID=Europe/Madrid:20250320T170000
DTEND;TZID=Europe/Madrid:20250320T200000
DTSTAMP:20260425T011347
CREATED:20250307T130015Z
LAST-MODIFIED:20250307T130015Z
UID:10026337-1742490000-1742500800@www.elverger.es
SUMMARY:Exposició "Pecados de Francis Morell"
DESCRIPTION:
URL:https://www.elverger.es/event/exposicio-pecados-de-francis-morell-2-2/2025-03-20/
LOCATION:Torre dels Ducs de Medinaceli\, C/ Abadia\, 2\, El Verger\, Alacant\, 03770\, España
ATTACH;FMTTYPE=image/jpeg:https://www.elverger.es/wp-content/uploads/2025/03/Pecados-de-Francis-Morell.jpg
GEO:38.842789;0.0103199
X-APPLE-STRUCTURED-LOCATION;VALUE=URI;X-ADDRESS=Torre dels Ducs de Medinaceli C/ Abadia 2 El Verger Alacant 03770 España;X-APPLE-RADIUS=500;X-TITLE=C/ Abadia\, 2:geo:0.0103199,38.842789
END:VEVENT
BEGIN:VEVENT
DTSTART;TZID=Europe/Madrid:20250322T090000
DTEND;TZID=Europe/Madrid:20250322T233000
DTSTAMP:20260425T011348
CREATED:20250321T104223Z
LAST-MODIFIED:20250321T104439Z
UID:10026355-1742634000-1742686200@www.elverger.es
SUMMARY:Mig any Moro i Cristià
DESCRIPTION:
URL:https://www.elverger.es/event/mig-any-moro-i-cristia/2025-03-22/
LOCATION:Plaça Rei Jaume I\, Plaça Rei Jaume I\, El Verger\, Alicante\, 03770\, España
ATTACH;FMTTYPE=image/jpeg:https://www.elverger.es/wp-content/uploads/2025/03/mig-any.jpg
GEO:38.845292;0.0088063
X-APPLE-STRUCTURED-LOCATION;VALUE=URI;X-ADDRESS=Plaça Rei Jaume I Plaça Rei Jaume I El Verger Alicante 03770 España;X-APPLE-RADIUS=500;X-TITLE=Plaça Rei Jaume I:geo:0.0088063,38.845292
END:VEVENT
BEGIN:VEVENT
DTSTART;TZID=Europe/Madrid:20250322T170000
DTEND;TZID=Europe/Madrid:20250322T200000
DTSTAMP:20260425T011348
CREATED:20250307T130015Z
LAST-MODIFIED:20250307T130015Z
UID:10026339-1742662800-1742673600@www.elverger.es
SUMMARY:Exposició "Pecados de Francis Morell"
DESCRIPTION:
URL:https://www.elverger.es/event/exposicio-pecados-de-francis-morell-2-2/2025-03-22/
LOCATION:Torre dels Ducs de Medinaceli\, C/ Abadia\, 2\, El Verger\, Alacant\, 03770\, España
ATTACH;FMTTYPE=image/jpeg:https://www.elverger.es/wp-content/uploads/2025/03/Pecados-de-Francis-Morell.jpg
GEO:38.842789;0.0103199
X-APPLE-STRUCTURED-LOCATION;VALUE=URI;X-ADDRESS=Torre dels Ducs de Medinaceli C/ Abadia 2 El Verger Alacant 03770 España;X-APPLE-RADIUS=500;X-TITLE=C/ Abadia\, 2:geo:0.0103199,38.842789
END:VEVENT
BEGIN:VEVENT
DTSTART;TZID=Europe/Madrid:20250323T090000
DTEND;TZID=Europe/Madrid:20250323T170000
DTSTAMP:20260425T011348
CREATED:20250321T104223Z
LAST-MODIFIED:20250321T104439Z
UID:10026356-1742720400-1742749200@www.elverger.es
SUMMARY:Mig any Moro i Cristià
DESCRIPTION:
URL:https://www.elverger.es/event/mig-any-moro-i-cristia/2025-03-23/
LOCATION:Plaça Rei Jaume I\, Plaça Rei Jaume I\, El Verger\, Alicante\, 03770\, España
ATTACH;FMTTYPE=image/jpeg:https://www.elverger.es/wp-content/uploads/2025/03/mig-any.jpg
GEO:38.845292;0.0088063
X-APPLE-STRUCTURED-LOCATION;VALUE=URI;X-ADDRESS=Plaça Rei Jaume I Plaça Rei Jaume I El Verger Alicante 03770 España;X-APPLE-RADIUS=500;X-TITLE=Plaça Rei Jaume I:geo:0.0088063,38.845292
END:VEVENT
BEGIN:VEVENT
DTSTART;TZID=Europe/Madrid:20250325T170000
DTEND;TZID=Europe/Madrid:20250325T190000
DTSTAMP:20260425T011348
CREATED:20250324T120630Z
LAST-MODIFIED:20250324T120630Z
UID:10026361-1742922000-1742929200@www.elverger.es
SUMMARY:Passejada Etnobotànica
DESCRIPTION:
URL:https://www.elverger.es/event/passejada-etnobotanica/
LOCATION:Punt Jove\, C/ Escorxador\, 8\, El Verger\, Alacant\, 03770\, Spain
ATTACH;FMTTYPE=image/jpeg:https://www.elverger.es/wp-content/uploads/2025/03/dia-de-larbre.jpg
END:VEVENT
BEGIN:VEVENT
DTSTART;TZID=Europe/Madrid:20250325T170000
DTEND;TZID=Europe/Madrid:20250325T200000
DTSTAMP:20260425T011348
CREATED:20250307T130015Z
LAST-MODIFIED:20250307T130015Z
UID:10026340-1742922000-1742932800@www.elverger.es
SUMMARY:Exposició "Pecados de Francis Morell"
DESCRIPTION:
URL:https://www.elverger.es/event/exposicio-pecados-de-francis-morell-2-2/2025-03-25/
LOCATION:Torre dels Ducs de Medinaceli\, C/ Abadia\, 2\, El Verger\, Alacant\, 03770\, España
ATTACH;FMTTYPE=image/jpeg:https://www.elverger.es/wp-content/uploads/2025/03/Pecados-de-Francis-Morell.jpg
GEO:38.842789;0.0103199
X-APPLE-STRUCTURED-LOCATION;VALUE=URI;X-ADDRESS=Torre dels Ducs de Medinaceli C/ Abadia 2 El Verger Alacant 03770 España;X-APPLE-RADIUS=500;X-TITLE=C/ Abadia\, 2:geo:0.0103199,38.842789
END:VEVENT
BEGIN:VEVENT
DTSTART;TZID=Europe/Madrid:20250326T170000
DTEND;TZID=Europe/Madrid:20250326T180000
DTSTAMP:20260425T011348
CREATED:20250324T120949Z
LAST-MODIFIED:20250324T121044Z
UID:10026362-1743008400-1743012000@www.elverger.es
SUMMARY:Taller "Fem el nostre jardí"
DESCRIPTION:
URL:https://www.elverger.es/event/taller-fem-el-nostre-jardi/2025-03-26/
LOCATION:Punt Jove\, C/ Escorxador\, 8\, El Verger\, Alacant\, 03770\, Spain
ATTACH;FMTTYPE=image/jpeg:https://www.elverger.es/wp-content/uploads/2025/03/dia-de-larbre.jpg
END:VEVENT
BEGIN:VEVENT
DTSTART;TZID=Europe/Madrid:20250326T170000
DTEND;TZID=Europe/Madrid:20250326T200000
DTSTAMP:20260425T011348
CREATED:20250307T130015Z
LAST-MODIFIED:20250307T130015Z
UID:10026341-1743008400-1743019200@www.elverger.es
SUMMARY:Exposició "Pecados de Francis Morell"
DESCRIPTION:
URL:https://www.elverger.es/event/exposicio-pecados-de-francis-morell-2-2/2025-03-26/
LOCATION:Torre dels Ducs de Medinaceli\, C/ Abadia\, 2\, El Verger\, Alacant\, 03770\, España
ATTACH;FMTTYPE=image/jpeg:https://www.elverger.es/wp-content/uploads/2025/03/Pecados-de-Francis-Morell.jpg
GEO:38.842789;0.0103199
X-APPLE-STRUCTURED-LOCATION;VALUE=URI;X-ADDRESS=Torre dels Ducs de Medinaceli C/ Abadia 2 El Verger Alacant 03770 España;X-APPLE-RADIUS=500;X-TITLE=C/ Abadia\, 2:geo:0.0103199,38.842789
END:VEVENT
BEGIN:VEVENT
DTSTART;TZID=Europe/Madrid:20250327T170000
DTEND;TZID=Europe/Madrid:20250327T180000
DTSTAMP:20260425T011348
CREATED:20250324T120949Z
LAST-MODIFIED:20250324T121044Z
UID:10026363-1743094800-1743098400@www.elverger.es
SUMMARY:Taller "Fem el nostre jardí"
DESCRIPTION:
URL:https://www.elverger.es/event/taller-fem-el-nostre-jardi/2025-03-27/
LOCATION:Punt Jove\, C/ Escorxador\, 8\, El Verger\, Alacant\, 03770\, Spain
ATTACH;FMTTYPE=image/jpeg:https://www.elverger.es/wp-content/uploads/2025/03/dia-de-larbre.jpg
END:VEVENT
BEGIN:VEVENT
DTSTART;TZID=Europe/Madrid:20250327T170000
DTEND;TZID=Europe/Madrid:20250327T200000
DTSTAMP:20260425T011348
CREATED:20250307T130015Z
LAST-MODIFIED:20250307T130015Z
UID:10026342-1743094800-1743105600@www.elverger.es
SUMMARY:Exposició "Pecados de Francis Morell"
DESCRIPTION:
URL:https://www.elverger.es/event/exposicio-pecados-de-francis-morell-2-2/2025-03-27/
LOCATION:Torre dels Ducs de Medinaceli\, C/ Abadia\, 2\, El Verger\, Alacant\, 03770\, España
ATTACH;FMTTYPE=image/jpeg:https://www.elverger.es/wp-content/uploads/2025/03/Pecados-de-Francis-Morell.jpg
GEO:38.842789;0.0103199
X-APPLE-STRUCTURED-LOCATION;VALUE=URI;X-ADDRESS=Torre dels Ducs de Medinaceli C/ Abadia 2 El Verger Alacant 03770 España;X-APPLE-RADIUS=500;X-TITLE=C/ Abadia\, 2:geo:0.0103199,38.842789
END:VEVENT
BEGIN:VEVENT
DTSTART;TZID=Europe/Madrid:20250327T190000
DTEND;TZID=Europe/Madrid:20250327T203000
DTSTAMP:20260425T011348
CREATED:20250324T121315Z
LAST-MODIFIED:20250324T121315Z
UID:10026364-1743102000-1743107400@www.elverger.es
SUMMARY:Presentació "El corn de la muntanya gran de Pedreguer"
DESCRIPTION:
URL:https://www.elverger.es/event/presentacio-el-corn-de-la-muntanya-gran-de-pedreguer/
LOCATION:Centre Social
ATTACH;FMTTYPE=image/jpeg:https://www.elverger.es/wp-content/uploads/2025/03/dia-de-larbre.jpg
END:VEVENT
BEGIN:VEVENT
DTSTART;TZID=Europe/Madrid:20250329T120000
DTEND;TZID=Europe/Madrid:20250329T233000
DTSTAMP:20260425T011348
CREATED:20250321T104655Z
LAST-MODIFIED:20250321T105225Z
UID:10026357-1743249600-1743291000@www.elverger.es
SUMMARY:Mig any Quintades El Verger 2025
DESCRIPTION:
URL:https://www.elverger.es/event/mig-any-quintades-el-verger-2025/
LOCATION:Plaça Rei Jaume I\, Plaça Rei Jaume I\, El Verger\, Alicante\, 03770\, España
ATTACH;FMTTYPE=image/jpeg:https://www.elverger.es/wp-content/uploads/2025/03/mig-any-de-quintades.jpg
GEO:38.845292;0.0088063
X-APPLE-STRUCTURED-LOCATION;VALUE=URI;X-ADDRESS=Plaça Rei Jaume I Plaça Rei Jaume I El Verger Alicante 03770 España;X-APPLE-RADIUS=500;X-TITLE=Plaça Rei Jaume I:geo:0.0088063,38.845292
END:VEVENT
BEGIN:VEVENT
DTSTART;TZID=Europe/Madrid:20250329T170000
DTEND;TZID=Europe/Madrid:20250329T200000
DTSTAMP:20260425T011348
CREATED:20250307T130015Z
LAST-MODIFIED:20250307T130015Z
UID:10026344-1743267600-1743278400@www.elverger.es
SUMMARY:Exposició "Pecados de Francis Morell"
DESCRIPTION:
URL:https://www.elverger.es/event/exposicio-pecados-de-francis-morell-2-2/2025-03-29/
LOCATION:Torre dels Ducs de Medinaceli\, C/ Abadia\, 2\, El Verger\, Alacant\, 03770\, España
ATTACH;FMTTYPE=image/jpeg:https://www.elverger.es/wp-content/uploads/2025/03/Pecados-de-Francis-Morell.jpg
GEO:38.842789;0.0103199
X-APPLE-STRUCTURED-LOCATION;VALUE=URI;X-ADDRESS=Torre dels Ducs de Medinaceli C/ Abadia 2 El Verger Alacant 03770 España;X-APPLE-RADIUS=500;X-TITLE=C/ Abadia\, 2:geo:0.0103199,38.842789
END:VEVENT
END:VCALENDAR