BEGIN:VCALENDAR
VERSION:2.0
PRODID:-//Ajuntament de El Verger - ECPv6.15.17//NONSGML v1.0//EN
CALSCALE:GREGORIAN
METHOD:PUBLISH
X-WR-CALNAME:Ajuntament de El Verger
X-ORIGINAL-URL:https://www.elverger.es
X-WR-CALDESC:Esdeveniments per Ajuntament de El Verger
REFRESH-INTERVAL;VALUE=DURATION:PT1H
X-Robots-Tag:noindex
X-PUBLISHED-TTL:PT1H
BEGIN:VTIMEZONE
TZID:Europe/Madrid
BEGIN:DAYLIGHT
TZOFFSETFROM:+0100
TZOFFSETTO:+0200
TZNAME:CEST
DTSTART:20240331T010000
END:DAYLIGHT
BEGIN:STANDARD
TZOFFSETFROM:+0200
TZOFFSETTO:+0100
TZNAME:CET
DTSTART:20241027T010000
END:STANDARD
BEGIN:DAYLIGHT
TZOFFSETFROM:+0100
TZOFFSETTO:+0200
TZNAME:CEST
DTSTART:20250330T010000
END:DAYLIGHT
BEGIN:STANDARD
TZOFFSETFROM:+0200
TZOFFSETTO:+0100
TZNAME:CET
DTSTART:20251026T010000
END:STANDARD
BEGIN:DAYLIGHT
TZOFFSETFROM:+0100
TZOFFSETTO:+0200
TZNAME:CEST
DTSTART:20260329T010000
END:DAYLIGHT
BEGIN:STANDARD
TZOFFSETFROM:+0200
TZOFFSETTO:+0100
TZNAME:CET
DTSTART:20261025T010000
END:STANDARD
END:VTIMEZONE
BEGIN:VEVENT
DTSTART;TZID=Europe/Madrid:20250401T170000
DTEND;TZID=Europe/Madrid:20250401T200000
DTSTAMP:20260425T011056
CREATED:20250307T130015Z
LAST-MODIFIED:20250307T130015Z
UID:10026345-1743526800-1743537600@www.elverger.es
SUMMARY:Exposició "Pecados de Francis Morell"
DESCRIPTION:
URL:https://www.elverger.es/event/exposicio-pecados-de-francis-morell-2-2/2025-04-01/
LOCATION:Torre dels Ducs de Medinaceli\, C/ Abadia\, 2\, El Verger\, Alacant\, 03770\, España
ATTACH;FMTTYPE=image/jpeg:https://www.elverger.es/wp-content/uploads/2025/03/Pecados-de-Francis-Morell.jpg
GEO:38.842789;0.0103199
X-APPLE-STRUCTURED-LOCATION;VALUE=URI;X-ADDRESS=Torre dels Ducs de Medinaceli C/ Abadia 2 El Verger Alacant 03770 España;X-APPLE-RADIUS=500;X-TITLE=C/ Abadia\, 2:geo:0.0103199,38.842789
END:VEVENT
BEGIN:VEVENT
DTSTART;TZID=Europe/Madrid:20250402T170000
DTEND;TZID=Europe/Madrid:20250402T200000
DTSTAMP:20260425T011056
CREATED:20250307T130015Z
LAST-MODIFIED:20250307T130015Z
UID:10026346-1743613200-1743624000@www.elverger.es
SUMMARY:Exposició "Pecados de Francis Morell"
DESCRIPTION:
URL:https://www.elverger.es/event/exposicio-pecados-de-francis-morell-2-2/2025-04-02/
LOCATION:Torre dels Ducs de Medinaceli\, C/ Abadia\, 2\, El Verger\, Alacant\, 03770\, España
ATTACH;FMTTYPE=image/jpeg:https://www.elverger.es/wp-content/uploads/2025/03/Pecados-de-Francis-Morell.jpg
GEO:38.842789;0.0103199
X-APPLE-STRUCTURED-LOCATION;VALUE=URI;X-ADDRESS=Torre dels Ducs de Medinaceli C/ Abadia 2 El Verger Alacant 03770 España;X-APPLE-RADIUS=500;X-TITLE=C/ Abadia\, 2:geo:0.0103199,38.842789
END:VEVENT
BEGIN:VEVENT
DTSTART;TZID=Europe/Madrid:20250403T170000
DTEND;TZID=Europe/Madrid:20250403T200000
DTSTAMP:20260425T011056
CREATED:20250307T130015Z
LAST-MODIFIED:20250307T130015Z
UID:10026347-1743699600-1743710400@www.elverger.es
SUMMARY:Exposició "Pecados de Francis Morell"
DESCRIPTION:
URL:https://www.elverger.es/event/exposicio-pecados-de-francis-morell-2-2/2025-04-03/
LOCATION:Torre dels Ducs de Medinaceli\, C/ Abadia\, 2\, El Verger\, Alacant\, 03770\, España
ATTACH;FMTTYPE=image/jpeg:https://www.elverger.es/wp-content/uploads/2025/03/Pecados-de-Francis-Morell.jpg
GEO:38.842789;0.0103199
X-APPLE-STRUCTURED-LOCATION;VALUE=URI;X-ADDRESS=Torre dels Ducs de Medinaceli C/ Abadia 2 El Verger Alacant 03770 España;X-APPLE-RADIUS=500;X-TITLE=C/ Abadia\, 2:geo:0.0103199,38.842789
END:VEVENT
BEGIN:VEVENT
DTSTART;TZID=Europe/Madrid:20250404T200000
DTEND;TZID=Europe/Madrid:20250404T233000
DTSTAMP:20260425T011056
CREATED:20250321T105607Z
LAST-MODIFIED:20250321T105945Z
UID:10026358-1743796800-1743809400@www.elverger.es
SUMMARY:Fira de Comerç Comarcal El Verger
DESCRIPTION:Divendres 4 d’abril: \n20:00h: Obertura de la Zona Gastronòmica (amb tardeig\, sopars i més)\n21:00h: Concert de Sauwy Pérez i a continuació seguix la festa amb un DJ.
URL:https://www.elverger.es/event/fira-de-comerc-comarcal-el-verger/
LOCATION:Plaça Major\, Plaça Major\, El Verger\, Alacant\, 03770\, España
ATTACH;FMTTYPE=image/jpeg:https://www.elverger.es/wp-content/uploads/2025/03/portada-fira.jpg
GEO:38.8453428;0.0104954
X-APPLE-STRUCTURED-LOCATION;VALUE=URI;X-ADDRESS=Plaça Major Plaça Major El Verger Alacant 03770 España;X-APPLE-RADIUS=500;X-TITLE=Plaça Major:geo:0.0104954,38.8453428
END:VEVENT
BEGIN:VEVENT
DTSTART;TZID=Europe/Madrid:20250405T080000
DTEND;TZID=Europe/Madrid:20250405T233000
DTSTAMP:20260425T011056
CREATED:20250321T110352Z
LAST-MODIFIED:20250321T110432Z
UID:10026359-1743840000-1743895800@www.elverger.es
SUMMARY:Fira de Comerç Comarcal El Verger
DESCRIPTION:Dissabte 5 d’abril: \n8:00h: Obertura de la Zona Gastronòmica (tot el dia amb esmorzars\, menjars\, tardeig i més)\n10:00h: Obertura dels estands de la Zona comercial\n12:00h: Castells\, tobogans i atraccions unflables per als xiquets\n12:00h: Carretons taurins per als xiquets amb la col·laboració de la Comissió de bous al carrer\n13:00h: Inauguració institucional de la fira\n13:00h: Cercavila de l’Associació Musical El Verger\n14:00h: Concert del grup JOTAJAYBERS\n17:00h: Castells\, tobogans i atraccions unflables per als xiquets\n17:00h: Carretons taurins per als xiquets amb la col·laboració de la Comissió de bous al carrer\n18:30h: Gran desfilada de moda\, complements i tendències 2025.\n21:30h: Concert del Grup NO COMMENT
URL:https://www.elverger.es/event/fira-de-comerc-comarcal-el-verger-2/
LOCATION:Plaça Rei Jaume I\, Plaça Rei Jaume I\, El Verger\, Alicante\, 03770\, España
ATTACH;FMTTYPE=image/jpeg:https://www.elverger.es/wp-content/uploads/2025/03/portada-fira.jpg
GEO:38.845292;0.0088063
X-APPLE-STRUCTURED-LOCATION;VALUE=URI;X-ADDRESS=Plaça Rei Jaume I Plaça Rei Jaume I El Verger Alicante 03770 España;X-APPLE-RADIUS=500;X-TITLE=Plaça Rei Jaume I:geo:0.0088063,38.845292
END:VEVENT
BEGIN:VEVENT
DTSTART;TZID=Europe/Madrid:20250405T170000
DTEND;TZID=Europe/Madrid:20250405T200000
DTSTAMP:20260425T011056
CREATED:20250307T130015Z
LAST-MODIFIED:20250307T130015Z
UID:10026349-1743872400-1743883200@www.elverger.es
SUMMARY:Exposició "Pecados de Francis Morell"
DESCRIPTION:
URL:https://www.elverger.es/event/exposicio-pecados-de-francis-morell-2-2/2025-04-05/
LOCATION:Torre dels Ducs de Medinaceli\, C/ Abadia\, 2\, El Verger\, Alacant\, 03770\, España
ATTACH;FMTTYPE=image/jpeg:https://www.elverger.es/wp-content/uploads/2025/03/Pecados-de-Francis-Morell.jpg
GEO:38.842789;0.0103199
X-APPLE-STRUCTURED-LOCATION;VALUE=URI;X-ADDRESS=Torre dels Ducs de Medinaceli C/ Abadia 2 El Verger Alacant 03770 España;X-APPLE-RADIUS=500;X-TITLE=C/ Abadia\, 2:geo:0.0103199,38.842789
END:VEVENT
BEGIN:VEVENT
DTSTART;TZID=Europe/Madrid:20250406T080000
DTEND;TZID=Europe/Madrid:20250406T233000
DTSTAMP:20260425T011056
CREATED:20250321T110900Z
LAST-MODIFIED:20250321T110900Z
UID:10026360-1743926400-1743982200@www.elverger.es
SUMMARY:Fira de Comerç Comarcal El Verger
DESCRIPTION:Diumenge 6 d’abril: \n8:00h: Obertura de la Zona Gastronòmica (tot el dia amb esmorzars\, menjars\, tardeig i més)\n10:00h: Obertura dels estands de la Zona comercial\n10:30h: Taller de Danses populars a càrrec de Espai Música Jove del Verger\n11:00h: Castells\, tobogans i atraccions unflables per als xiquets.\n11:00h: Carretons taurins per als xiquets amb la col·laboració de la Comissió de bous al carrer\n11:00h: Jornada de Danses Comarcal amb estrena de la Dansà del Verger\n12:00h: Actuació Homenatge al Cant Valencià amb Marian Salido\, Xavi de Bétera i Gerard Tomàs\n14:00h: Concert del grup REBEL VELVET\n17:00h: Castells\, tobogans i atraccions unflables per als xiquets\n17:00h: Carretons taurins per als xiquets amb la col·laboració de la Comissió de bous al carrer\n17:00h: Actuació del DJ JAIRO GINESTAR
URL:https://www.elverger.es/event/fira-de-comerc-comarcal-el-verger-3/
LOCATION:C/ Major\, C/ Major\, El Verger\, Alacant\, 03770\, España
ATTACH;FMTTYPE=image/jpeg:https://www.elverger.es/wp-content/uploads/2025/03/portada-fira.jpg
GEO:38.8443165;0.0101847
X-APPLE-STRUCTURED-LOCATION;VALUE=URI;X-ADDRESS=C/ Major C/ Major El Verger Alacant 03770 España;X-APPLE-RADIUS=500;X-TITLE=C/ Major:geo:0.0101847,38.8443165
END:VEVENT
BEGIN:VEVENT
DTSTART;TZID=Europe/Madrid:20250408T170000
DTEND;TZID=Europe/Madrid:20250408T200000
DTSTAMP:20260425T011056
CREATED:20250307T130015Z
LAST-MODIFIED:20250307T130015Z
UID:10026350-1744131600-1744142400@www.elverger.es
SUMMARY:Exposició "Pecados de Francis Morell"
DESCRIPTION:
URL:https://www.elverger.es/event/exposicio-pecados-de-francis-morell-2-2/2025-04-08/
LOCATION:Torre dels Ducs de Medinaceli\, C/ Abadia\, 2\, El Verger\, Alacant\, 03770\, España
ATTACH;FMTTYPE=image/jpeg:https://www.elverger.es/wp-content/uploads/2025/03/Pecados-de-Francis-Morell.jpg
GEO:38.842789;0.0103199
X-APPLE-STRUCTURED-LOCATION;VALUE=URI;X-ADDRESS=Torre dels Ducs de Medinaceli C/ Abadia 2 El Verger Alacant 03770 España;X-APPLE-RADIUS=500;X-TITLE=C/ Abadia\, 2:geo:0.0103199,38.842789
END:VEVENT
BEGIN:VEVENT
DTSTART;TZID=Europe/Madrid:20250409T170000
DTEND;TZID=Europe/Madrid:20250409T200000
DTSTAMP:20260425T011056
CREATED:20250307T130015Z
LAST-MODIFIED:20250307T130015Z
UID:10026351-1744218000-1744228800@www.elverger.es
SUMMARY:Exposició "Pecados de Francis Morell"
DESCRIPTION:
URL:https://www.elverger.es/event/exposicio-pecados-de-francis-morell-2-2/2025-04-09/
LOCATION:Torre dels Ducs de Medinaceli\, C/ Abadia\, 2\, El Verger\, Alacant\, 03770\, España
ATTACH;FMTTYPE=image/jpeg:https://www.elverger.es/wp-content/uploads/2025/03/Pecados-de-Francis-Morell.jpg
GEO:38.842789;0.0103199
X-APPLE-STRUCTURED-LOCATION;VALUE=URI;X-ADDRESS=Torre dels Ducs de Medinaceli C/ Abadia 2 El Verger Alacant 03770 España;X-APPLE-RADIUS=500;X-TITLE=C/ Abadia\, 2:geo:0.0103199,38.842789
END:VEVENT
BEGIN:VEVENT
DTSTART;TZID=Europe/Madrid:20250410T170000
DTEND;TZID=Europe/Madrid:20250410T200000
DTSTAMP:20260425T011056
CREATED:20250307T130015Z
LAST-MODIFIED:20250307T130015Z
UID:10026352-1744304400-1744315200@www.elverger.es
SUMMARY:Exposició "Pecados de Francis Morell"
DESCRIPTION:
URL:https://www.elverger.es/event/exposicio-pecados-de-francis-morell-2-2/2025-04-10/
LOCATION:Torre dels Ducs de Medinaceli\, C/ Abadia\, 2\, El Verger\, Alacant\, 03770\, España
ATTACH;FMTTYPE=image/jpeg:https://www.elverger.es/wp-content/uploads/2025/03/Pecados-de-Francis-Morell.jpg
GEO:38.842789;0.0103199
X-APPLE-STRUCTURED-LOCATION;VALUE=URI;X-ADDRESS=Torre dels Ducs de Medinaceli C/ Abadia 2 El Verger Alacant 03770 España;X-APPLE-RADIUS=500;X-TITLE=C/ Abadia\, 2:geo:0.0103199,38.842789
END:VEVENT
BEGIN:VEVENT
DTSTART;TZID=Europe/Madrid:20250416T190000
DTEND;TZID=Europe/Madrid:20250416T210000
DTSTAMP:20260425T011056
CREATED:20250415T112231Z
LAST-MODIFIED:20250415T112232Z
UID:10026365-1744830000-1744837200@www.elverger.es
SUMMARY:Exposició "Marinant Estellés"
DESCRIPTION:
URL:https://www.elverger.es/event/exposicio-marinant-estelles/
LOCATION:Torre dels Ducs de Medinaceli\, C/ Abadia\, 2\, El Verger\, Alacant\, 03770\, España
ATTACH;FMTTYPE=image/jpeg:https://www.elverger.es/wp-content/uploads/2025/04/marinant-estelles.jpg
GEO:38.842789;0.0103199
X-APPLE-STRUCTURED-LOCATION;VALUE=URI;X-ADDRESS=Torre dels Ducs de Medinaceli C/ Abadia 2 El Verger Alacant 03770 España;X-APPLE-RADIUS=500;X-TITLE=C/ Abadia\, 2:geo:0.0103199,38.842789
END:VEVENT
BEGIN:VEVENT
DTSTART;TZID=Europe/Madrid:20250417T170000
DTEND;TZID=Europe/Madrid:20250417T200000
DTSTAMP:20260425T011056
CREATED:20250415T112437Z
LAST-MODIFIED:20250415T112534Z
UID:10026366-1744909200-1744920000@www.elverger.es
SUMMARY:Exposició "Marinant Estellés"
DESCRIPTION:
URL:https://www.elverger.es/event/exposicio-marinant-estelles-2/2025-04-17/
LOCATION:Torre dels Ducs de Medinaceli\, C/ Abadia\, 2\, El Verger\, Alacant\, 03770\, España
ATTACH;FMTTYPE=image/jpeg:https://www.elverger.es/wp-content/uploads/2025/04/marinant-estelles.jpg
GEO:38.842789;0.0103199
X-APPLE-STRUCTURED-LOCATION;VALUE=URI;X-ADDRESS=Torre dels Ducs de Medinaceli C/ Abadia 2 El Verger Alacant 03770 España;X-APPLE-RADIUS=500;X-TITLE=C/ Abadia\, 2:geo:0.0103199,38.842789
END:VEVENT
BEGIN:VEVENT
DTSTART;TZID=Europe/Madrid:20250418T170000
DTEND;TZID=Europe/Madrid:20250418T200000
DTSTAMP:20260425T011056
CREATED:20250415T112437Z
LAST-MODIFIED:20250415T112534Z
UID:10026367-1744995600-1745006400@www.elverger.es
SUMMARY:Exposició "Marinant Estellés"
DESCRIPTION:
URL:https://www.elverger.es/event/exposicio-marinant-estelles-2/2025-04-18/
LOCATION:Torre dels Ducs de Medinaceli\, C/ Abadia\, 2\, El Verger\, Alacant\, 03770\, España
ATTACH;FMTTYPE=image/jpeg:https://www.elverger.es/wp-content/uploads/2025/04/marinant-estelles.jpg
GEO:38.842789;0.0103199
X-APPLE-STRUCTURED-LOCATION;VALUE=URI;X-ADDRESS=Torre dels Ducs de Medinaceli C/ Abadia 2 El Verger Alacant 03770 España;X-APPLE-RADIUS=500;X-TITLE=C/ Abadia\, 2:geo:0.0103199,38.842789
END:VEVENT
BEGIN:VEVENT
DTSTART;TZID=Europe/Madrid:20250419T170000
DTEND;TZID=Europe/Madrid:20250419T200000
DTSTAMP:20260425T011056
CREATED:20250415T112437Z
LAST-MODIFIED:20250415T112534Z
UID:10026368-1745082000-1745092800@www.elverger.es
SUMMARY:Exposició "Marinant Estellés"
DESCRIPTION:
URL:https://www.elverger.es/event/exposicio-marinant-estelles-2/2025-04-19/
LOCATION:Torre dels Ducs de Medinaceli\, C/ Abadia\, 2\, El Verger\, Alacant\, 03770\, España
ATTACH;FMTTYPE=image/jpeg:https://www.elverger.es/wp-content/uploads/2025/04/marinant-estelles.jpg
GEO:38.842789;0.0103199
X-APPLE-STRUCTURED-LOCATION;VALUE=URI;X-ADDRESS=Torre dels Ducs de Medinaceli C/ Abadia 2 El Verger Alacant 03770 España;X-APPLE-RADIUS=500;X-TITLE=C/ Abadia\, 2:geo:0.0103199,38.842789
END:VEVENT
BEGIN:VEVENT
DTSTART;TZID=Europe/Madrid:20250422T170000
DTEND;TZID=Europe/Madrid:20250422T200000
DTSTAMP:20260425T011056
CREATED:20250415T112437Z
LAST-MODIFIED:20250415T112534Z
UID:10026371-1745341200-1745352000@www.elverger.es
SUMMARY:Exposició "Marinant Estellés"
DESCRIPTION:
URL:https://www.elverger.es/event/exposicio-marinant-estelles-2/2025-04-22/
LOCATION:Torre dels Ducs de Medinaceli\, C/ Abadia\, 2\, El Verger\, Alacant\, 03770\, España
ATTACH;FMTTYPE=image/jpeg:https://www.elverger.es/wp-content/uploads/2025/04/marinant-estelles.jpg
GEO:38.842789;0.0103199
X-APPLE-STRUCTURED-LOCATION;VALUE=URI;X-ADDRESS=Torre dels Ducs de Medinaceli C/ Abadia 2 El Verger Alacant 03770 España;X-APPLE-RADIUS=500;X-TITLE=C/ Abadia\, 2:geo:0.0103199,38.842789
END:VEVENT
BEGIN:VEVENT
DTSTART;TZID=Europe/Madrid:20250423T170000
DTEND;TZID=Europe/Madrid:20250423T200000
DTSTAMP:20260425T011056
CREATED:20250415T112437Z
LAST-MODIFIED:20250415T112534Z
UID:10026372-1745427600-1745438400@www.elverger.es
SUMMARY:Exposició "Marinant Estellés"
DESCRIPTION:
URL:https://www.elverger.es/event/exposicio-marinant-estelles-2/2025-04-23/
LOCATION:Torre dels Ducs de Medinaceli\, C/ Abadia\, 2\, El Verger\, Alacant\, 03770\, España
ATTACH;FMTTYPE=image/jpeg:https://www.elverger.es/wp-content/uploads/2025/04/marinant-estelles.jpg
GEO:38.842789;0.0103199
X-APPLE-STRUCTURED-LOCATION;VALUE=URI;X-ADDRESS=Torre dels Ducs de Medinaceli C/ Abadia 2 El Verger Alacant 03770 España;X-APPLE-RADIUS=500;X-TITLE=C/ Abadia\, 2:geo:0.0103199,38.842789
END:VEVENT
BEGIN:VEVENT
DTSTART;TZID=Europe/Madrid:20250424T170000
DTEND;TZID=Europe/Madrid:20250424T200000
DTSTAMP:20260425T011056
CREATED:20250415T112437Z
LAST-MODIFIED:20250415T112534Z
UID:10026373-1745514000-1745524800@www.elverger.es
SUMMARY:Exposició "Marinant Estellés"
DESCRIPTION:
URL:https://www.elverger.es/event/exposicio-marinant-estelles-2/2025-04-24/
LOCATION:Torre dels Ducs de Medinaceli\, C/ Abadia\, 2\, El Verger\, Alacant\, 03770\, España
ATTACH;FMTTYPE=image/jpeg:https://www.elverger.es/wp-content/uploads/2025/04/marinant-estelles.jpg
GEO:38.842789;0.0103199
X-APPLE-STRUCTURED-LOCATION;VALUE=URI;X-ADDRESS=Torre dels Ducs de Medinaceli C/ Abadia 2 El Verger Alacant 03770 España;X-APPLE-RADIUS=500;X-TITLE=C/ Abadia\, 2:geo:0.0103199,38.842789
END:VEVENT
BEGIN:VEVENT
DTSTART;TZID=Europe/Madrid:20250425T170000
DTEND;TZID=Europe/Madrid:20250425T200000
DTSTAMP:20260425T011056
CREATED:20250415T112437Z
LAST-MODIFIED:20250415T112534Z
UID:10026374-1745600400-1745611200@www.elverger.es
SUMMARY:Exposició "Marinant Estellés"
DESCRIPTION:
URL:https://www.elverger.es/event/exposicio-marinant-estelles-2/2025-04-25/
LOCATION:Torre dels Ducs de Medinaceli\, C/ Abadia\, 2\, El Verger\, Alacant\, 03770\, España
ATTACH;FMTTYPE=image/jpeg:https://www.elverger.es/wp-content/uploads/2025/04/marinant-estelles.jpg
GEO:38.842789;0.0103199
X-APPLE-STRUCTURED-LOCATION;VALUE=URI;X-ADDRESS=Torre dels Ducs de Medinaceli C/ Abadia 2 El Verger Alacant 03770 España;X-APPLE-RADIUS=500;X-TITLE=C/ Abadia\, 2:geo:0.0103199,38.842789
END:VEVENT
BEGIN:VEVENT
DTSTART;TZID=Europe/Madrid:20250426T170000
DTEND;TZID=Europe/Madrid:20250426T200000
DTSTAMP:20260425T011056
CREATED:20250415T112437Z
LAST-MODIFIED:20250415T112534Z
UID:10026375-1745686800-1745697600@www.elverger.es
SUMMARY:Exposició "Marinant Estellés"
DESCRIPTION:
URL:https://www.elverger.es/event/exposicio-marinant-estelles-2/2025-04-26/
LOCATION:Torre dels Ducs de Medinaceli\, C/ Abadia\, 2\, El Verger\, Alacant\, 03770\, España
ATTACH;FMTTYPE=image/jpeg:https://www.elverger.es/wp-content/uploads/2025/04/marinant-estelles.jpg
GEO:38.842789;0.0103199
X-APPLE-STRUCTURED-LOCATION;VALUE=URI;X-ADDRESS=Torre dels Ducs de Medinaceli C/ Abadia 2 El Verger Alacant 03770 España;X-APPLE-RADIUS=500;X-TITLE=C/ Abadia\, 2:geo:0.0103199,38.842789
END:VEVENT
BEGIN:VEVENT
DTSTART;TZID=Europe/Madrid:20250427T110000
DTEND;TZID=Europe/Madrid:20250427T123000
DTSTAMP:20260425T011056
CREATED:20250423T064205Z
LAST-MODIFIED:20250423T064206Z
UID:10026385-1745751600-1745757000@www.elverger.es
SUMMARY:Cicle de teatre infantil
DESCRIPTION:
URL:https://www.elverger.es/event/cicle-de-teatre-infantil/
LOCATION:Plaça Concepció Miquel Giner\, Plaça Concepció Miquel Giner\, El Verger\, Alacant\, 03770\, Spain
ATTACH;FMTTYPE=image/jpeg:https://www.elverger.es/wp-content/uploads/2025/04/cicle-de-teatre.jpg
END:VEVENT
BEGIN:VEVENT
DTSTART;TZID=Europe/Madrid:20250429T170000
DTEND;TZID=Europe/Madrid:20250429T200000
DTSTAMP:20260425T011056
CREATED:20250415T112437Z
LAST-MODIFIED:20250415T112534Z
UID:10026378-1745946000-1745956800@www.elverger.es
SUMMARY:Exposició "Marinant Estellés"
DESCRIPTION:
URL:https://www.elverger.es/event/exposicio-marinant-estelles-2/2025-04-29/
LOCATION:Torre dels Ducs de Medinaceli\, C/ Abadia\, 2\, El Verger\, Alacant\, 03770\, España
ATTACH;FMTTYPE=image/jpeg:https://www.elverger.es/wp-content/uploads/2025/04/marinant-estelles.jpg
GEO:38.842789;0.0103199
X-APPLE-STRUCTURED-LOCATION;VALUE=URI;X-ADDRESS=Torre dels Ducs de Medinaceli C/ Abadia 2 El Verger Alacant 03770 España;X-APPLE-RADIUS=500;X-TITLE=C/ Abadia\, 2:geo:0.0103199,38.842789
END:VEVENT
BEGIN:VEVENT
DTSTART;TZID=Europe/Madrid:20250430T170000
DTEND;TZID=Europe/Madrid:20250430T200000
DTSTAMP:20260425T011056
CREATED:20250415T112437Z
LAST-MODIFIED:20250415T112534Z
UID:10026379-1746032400-1746043200@www.elverger.es
SUMMARY:Exposició "Marinant Estellés"
DESCRIPTION:
URL:https://www.elverger.es/event/exposicio-marinant-estelles-2/2025-04-30/
LOCATION:Torre dels Ducs de Medinaceli\, C/ Abadia\, 2\, El Verger\, Alacant\, 03770\, España
ATTACH;FMTTYPE=image/jpeg:https://www.elverger.es/wp-content/uploads/2025/04/marinant-estelles.jpg
GEO:38.842789;0.0103199
X-APPLE-STRUCTURED-LOCATION;VALUE=URI;X-ADDRESS=Torre dels Ducs de Medinaceli C/ Abadia 2 El Verger Alacant 03770 España;X-APPLE-RADIUS=500;X-TITLE=C/ Abadia\, 2:geo:0.0103199,38.842789
END:VEVENT
END:VCALENDAR