BEGIN:VCALENDAR
VERSION:2.0
PRODID:-//Ajuntament de El Verger - ECPv6.15.17//NONSGML v1.0//EN
CALSCALE:GREGORIAN
METHOD:PUBLISH
X-WR-CALNAME:Ajuntament de El Verger
X-ORIGINAL-URL:https://www.elverger.es
X-WR-CALDESC:Esdeveniments per Ajuntament de El Verger
REFRESH-INTERVAL;VALUE=DURATION:PT1H
X-Robots-Tag:noindex
X-PUBLISHED-TTL:PT1H
BEGIN:VTIMEZONE
TZID:Europe/Madrid
BEGIN:DAYLIGHT
TZOFFSETFROM:+0100
TZOFFSETTO:+0200
TZNAME:CEST
DTSTART:20240331T010000
END:DAYLIGHT
BEGIN:STANDARD
TZOFFSETFROM:+0200
TZOFFSETTO:+0100
TZNAME:CET
DTSTART:20241027T010000
END:STANDARD
BEGIN:DAYLIGHT
TZOFFSETFROM:+0100
TZOFFSETTO:+0200
TZNAME:CEST
DTSTART:20250330T010000
END:DAYLIGHT
BEGIN:STANDARD
TZOFFSETFROM:+0200
TZOFFSETTO:+0100
TZNAME:CET
DTSTART:20251026T010000
END:STANDARD
BEGIN:DAYLIGHT
TZOFFSETFROM:+0100
TZOFFSETTO:+0200
TZNAME:CEST
DTSTART:20260329T010000
END:DAYLIGHT
BEGIN:STANDARD
TZOFFSETFROM:+0200
TZOFFSETTO:+0100
TZNAME:CET
DTSTART:20261025T010000
END:STANDARD
END:VTIMEZONE
BEGIN:VEVENT
DTSTART;TZID=Europe/Madrid:20251001T170000
DTEND;TZID=Europe/Madrid:20251001T200000
DTSTAMP:20260424T165632
CREATED:20250915T104658Z
LAST-MODIFIED:20250915T104658Z
UID:10026406-1759338000-1759348800@www.elverger.es
SUMMARY:Exposició Col·lectiva
DESCRIPTION:
URL:https://www.elverger.es/event/exposicio-collectiva/2025-10-01/
LOCATION:Torre dels Ducs de Medinaceli\, C/ Abadia\, 2\, El Verger\, Alacant\, 03770\, España
ATTACH;FMTTYPE=image/jpeg:https://www.elverger.es/wp-content/uploads/2025/09/exposicio-collectiva.jpg
GEO:38.842789;0.0103199
X-APPLE-STRUCTURED-LOCATION;VALUE=URI;X-ADDRESS=Torre dels Ducs de Medinaceli C/ Abadia 2 El Verger Alacant 03770 España;X-APPLE-RADIUS=500;X-TITLE=C/ Abadia\, 2:geo:0.0103199,38.842789
END:VEVENT
BEGIN:VEVENT
DTSTART;TZID=Europe/Madrid:20251002T170000
DTEND;TZID=Europe/Madrid:20251002T200000
DTSTAMP:20260424T165632
CREATED:20250915T104658Z
LAST-MODIFIED:20250915T104658Z
UID:10026407-1759424400-1759435200@www.elverger.es
SUMMARY:Exposició Col·lectiva
DESCRIPTION:
URL:https://www.elverger.es/event/exposicio-collectiva/2025-10-02/
LOCATION:Torre dels Ducs de Medinaceli\, C/ Abadia\, 2\, El Verger\, Alacant\, 03770\, España
ATTACH;FMTTYPE=image/jpeg:https://www.elverger.es/wp-content/uploads/2025/09/exposicio-collectiva.jpg
GEO:38.842789;0.0103199
X-APPLE-STRUCTURED-LOCATION;VALUE=URI;X-ADDRESS=Torre dels Ducs de Medinaceli C/ Abadia 2 El Verger Alacant 03770 España;X-APPLE-RADIUS=500;X-TITLE=C/ Abadia\, 2:geo:0.0103199,38.842789
END:VEVENT
BEGIN:VEVENT
DTSTART;TZID=Europe/Madrid:20251003T170000
DTEND;TZID=Europe/Madrid:20251003T200000
DTSTAMP:20260424T165632
CREATED:20250915T104658Z
LAST-MODIFIED:20250915T104658Z
UID:10026408-1759510800-1759521600@www.elverger.es
SUMMARY:Exposició Col·lectiva
DESCRIPTION:
URL:https://www.elverger.es/event/exposicio-collectiva/2025-10-03/
LOCATION:Torre dels Ducs de Medinaceli\, C/ Abadia\, 2\, El Verger\, Alacant\, 03770\, España
ATTACH;FMTTYPE=image/jpeg:https://www.elverger.es/wp-content/uploads/2025/09/exposicio-collectiva.jpg
GEO:38.842789;0.0103199
X-APPLE-STRUCTURED-LOCATION;VALUE=URI;X-ADDRESS=Torre dels Ducs de Medinaceli C/ Abadia 2 El Verger Alacant 03770 España;X-APPLE-RADIUS=500;X-TITLE=C/ Abadia\, 2:geo:0.0103199,38.842789
END:VEVENT
BEGIN:VEVENT
DTSTART;TZID=Europe/Madrid:20251004T113000
DTEND;TZID=Europe/Madrid:20251004T130000
DTSTAMP:20260424T165632
CREATED:20250930T123916Z
LAST-MODIFIED:20250930T123916Z
UID:10026431-1759577400-1759582800@www.elverger.es
SUMMARY:Actuació Eixam Ensemble El Verger
DESCRIPTION:
URL:https://www.elverger.es/event/actuacio-eixam-ensemble-el-verger/
LOCATION:Plaça Major\, Plaça Major\, El Verger\, Alacant\, 03770\, España
ATTACH;FMTTYPE=image/jpeg:https://www.elverger.es/wp-content/uploads/2025/09/presentacio.jpg
GEO:38.8453428;0.0104954
X-APPLE-STRUCTURED-LOCATION;VALUE=URI;X-ADDRESS=Plaça Major Plaça Major El Verger Alacant 03770 España;X-APPLE-RADIUS=500;X-TITLE=Plaça Major:geo:0.0104954,38.8453428
END:VEVENT
BEGIN:VEVENT
DTSTART;TZID=Europe/Madrid:20251004T130000
DTEND;TZID=Europe/Madrid:20251004T170000
DTSTAMP:20260424T165632
CREATED:20250930T123736Z
LAST-MODIFIED:20250930T123736Z
UID:10026430-1759582800-1759597200@www.elverger.es
SUMMARY:VIII Concurs Dinars Tradicionals
DESCRIPTION:
URL:https://www.elverger.es/event/viii-concurs-dinars-tradicionals/
LOCATION:C/ Major\, C/ Major\, El Verger\, Alacant\, 03770\, España
ATTACH;FMTTYPE=image/jpeg:https://www.elverger.es/wp-content/uploads/2025/09/concurs.jpg
GEO:38.8443165;0.0101847
X-APPLE-STRUCTURED-LOCATION;VALUE=URI;X-ADDRESS=C/ Major C/ Major El Verger Alacant 03770 España;X-APPLE-RADIUS=500;X-TITLE=C/ Major:geo:0.0101847,38.8443165
END:VEVENT
BEGIN:VEVENT
DTSTART;TZID=Europe/Madrid:20251004T170000
DTEND;TZID=Europe/Madrid:20251004T200000
DTSTAMP:20260424T165632
CREATED:20250915T104658Z
LAST-MODIFIED:20250915T104658Z
UID:10026409-1759597200-1759608000@www.elverger.es
SUMMARY:Exposició Col·lectiva
DESCRIPTION:
URL:https://www.elverger.es/event/exposicio-collectiva/2025-10-04/
LOCATION:Torre dels Ducs de Medinaceli\, C/ Abadia\, 2\, El Verger\, Alacant\, 03770\, España
ATTACH;FMTTYPE=image/jpeg:https://www.elverger.es/wp-content/uploads/2025/09/exposicio-collectiva.jpg
GEO:38.842789;0.0103199
X-APPLE-STRUCTURED-LOCATION;VALUE=URI;X-ADDRESS=Torre dels Ducs de Medinaceli C/ Abadia 2 El Verger Alacant 03770 España;X-APPLE-RADIUS=500;X-TITLE=C/ Abadia\, 2:geo:0.0103199,38.842789
END:VEVENT
BEGIN:VEVENT
DTSTART;TZID=Europe/Madrid:20251007T170000
DTEND;TZID=Europe/Madrid:20251007T200000
DTSTAMP:20260424T165632
CREATED:20250915T104658Z
LAST-MODIFIED:20250915T104658Z
UID:10026410-1759856400-1759867200@www.elverger.es
SUMMARY:Exposició Col·lectiva
DESCRIPTION:
URL:https://www.elverger.es/event/exposicio-collectiva/2025-10-07/
LOCATION:Torre dels Ducs de Medinaceli\, C/ Abadia\, 2\, El Verger\, Alacant\, 03770\, España
ATTACH;FMTTYPE=image/jpeg:https://www.elverger.es/wp-content/uploads/2025/09/exposicio-collectiva.jpg
GEO:38.842789;0.0103199
X-APPLE-STRUCTURED-LOCATION;VALUE=URI;X-ADDRESS=Torre dels Ducs de Medinaceli C/ Abadia 2 El Verger Alacant 03770 España;X-APPLE-RADIUS=500;X-TITLE=C/ Abadia\, 2:geo:0.0103199,38.842789
END:VEVENT
BEGIN:VEVENT
DTSTART;TZID=Europe/Madrid:20251008T170000
DTEND;TZID=Europe/Madrid:20251008T200000
DTSTAMP:20260424T165632
CREATED:20250915T104658Z
LAST-MODIFIED:20250915T104658Z
UID:10026411-1759942800-1759953600@www.elverger.es
SUMMARY:Exposició Col·lectiva
DESCRIPTION:
URL:https://www.elverger.es/event/exposicio-collectiva/2025-10-08/
LOCATION:Torre dels Ducs de Medinaceli\, C/ Abadia\, 2\, El Verger\, Alacant\, 03770\, España
ATTACH;FMTTYPE=image/jpeg:https://www.elverger.es/wp-content/uploads/2025/09/exposicio-collectiva.jpg
GEO:38.842789;0.0103199
X-APPLE-STRUCTURED-LOCATION;VALUE=URI;X-ADDRESS=Torre dels Ducs de Medinaceli C/ Abadia 2 El Verger Alacant 03770 España;X-APPLE-RADIUS=500;X-TITLE=C/ Abadia\, 2:geo:0.0103199,38.842789
END:VEVENT
BEGIN:VEVENT
DTSTART;TZID=Europe/Madrid:20251008T223000
DTEND;TZID=Europe/Madrid:20251008T233000
DTSTAMP:20260424T165632
CREATED:20251007T114839Z
LAST-MODIFIED:20251007T114839Z
UID:10026432-1759962600-1759966200@www.elverger.es
SUMMARY:1ª Edició dels Premis d'honor "El Trapig"
DESCRIPTION:
URL:https://www.elverger.es/event/1a-edicio-dels-premis-dhonor-el-trapig/
LOCATION:Casa de Cultura\, C/ Mestre Jose Vives\, 8\, El Verger\, Alicante\, 03770\, España
ATTACH;FMTTYPE=image/jpeg:https://www.elverger.es/wp-content/uploads/2025/09/events-9-doctubre.jpeg
GEO:38.8411635;0.0087892
X-APPLE-STRUCTURED-LOCATION;VALUE=URI;X-ADDRESS=Casa de Cultura C/ Mestre Jose Vives 8 El Verger Alicante 03770 España;X-APPLE-RADIUS=500;X-TITLE=C/ Mestre Jose Vives\, 8:geo:0.0087892,38.8411635
END:VEVENT
BEGIN:VEVENT
DTSTART;TZID=Europe/Madrid:20251009T140000
DTEND;TZID=Europe/Madrid:20251009T193000
DTSTAMP:20260424T165632
CREATED:20250926T115301Z
LAST-MODIFIED:20251007T114450Z
UID:10026428-1760018400-1760038200@www.elverger.es
SUMMARY:Paella gegant celebració 9 d'Octubre
DESCRIPTION:
URL:https://www.elverger.es/event/paella-gegant-celebracio-9-doctubre/
LOCATION:c/ Divina Aurora\, C/ Divina Aurora
ATTACH;FMTTYPE=image/jpeg:https://www.elverger.es/wp-content/uploads/2025/09/events-9-doctubre.jpeg
END:VEVENT
BEGIN:VEVENT
DTSTART;TZID=Europe/Madrid:20251009T170000
DTEND;TZID=Europe/Madrid:20251009T200000
DTSTAMP:20260424T165632
CREATED:20250915T104658Z
LAST-MODIFIED:20250915T104658Z
UID:10026412-1760029200-1760040000@www.elverger.es
SUMMARY:Exposició Col·lectiva
DESCRIPTION:
URL:https://www.elverger.es/event/exposicio-collectiva/2025-10-09/
LOCATION:Torre dels Ducs de Medinaceli\, C/ Abadia\, 2\, El Verger\, Alacant\, 03770\, España
ATTACH;FMTTYPE=image/jpeg:https://www.elverger.es/wp-content/uploads/2025/09/exposicio-collectiva.jpg
GEO:38.842789;0.0103199
X-APPLE-STRUCTURED-LOCATION;VALUE=URI;X-ADDRESS=Torre dels Ducs de Medinaceli C/ Abadia 2 El Verger Alacant 03770 España;X-APPLE-RADIUS=500;X-TITLE=C/ Abadia\, 2:geo:0.0103199,38.842789
END:VEVENT
BEGIN:VEVENT
DTSTART;TZID=Europe/Madrid:20251010T170000
DTEND;TZID=Europe/Madrid:20251010T200000
DTSTAMP:20260424T165632
CREATED:20250915T104658Z
LAST-MODIFIED:20250915T104658Z
UID:10026413-1760115600-1760126400@www.elverger.es
SUMMARY:Exposició Col·lectiva
DESCRIPTION:
URL:https://www.elverger.es/event/exposicio-collectiva/2025-10-10/
LOCATION:Torre dels Ducs de Medinaceli\, C/ Abadia\, 2\, El Verger\, Alacant\, 03770\, España
ATTACH;FMTTYPE=image/jpeg:https://www.elverger.es/wp-content/uploads/2025/09/exposicio-collectiva.jpg
GEO:38.842789;0.0103199
X-APPLE-STRUCTURED-LOCATION;VALUE=URI;X-ADDRESS=Torre dels Ducs de Medinaceli C/ Abadia 2 El Verger Alacant 03770 España;X-APPLE-RADIUS=500;X-TITLE=C/ Abadia\, 2:geo:0.0103199,38.842789
END:VEVENT
BEGIN:VEVENT
DTSTART;TZID=Europe/Madrid:20251011T170000
DTEND;TZID=Europe/Madrid:20251011T200000
DTSTAMP:20260424T165632
CREATED:20250915T104658Z
LAST-MODIFIED:20250915T104658Z
UID:10026414-1760202000-1760212800@www.elverger.es
SUMMARY:Exposició Col·lectiva
DESCRIPTION:
URL:https://www.elverger.es/event/exposicio-collectiva/2025-10-11/
LOCATION:Torre dels Ducs de Medinaceli\, C/ Abadia\, 2\, El Verger\, Alacant\, 03770\, España
ATTACH;FMTTYPE=image/jpeg:https://www.elverger.es/wp-content/uploads/2025/09/exposicio-collectiva.jpg
GEO:38.842789;0.0103199
X-APPLE-STRUCTURED-LOCATION;VALUE=URI;X-ADDRESS=Torre dels Ducs de Medinaceli C/ Abadia 2 El Verger Alacant 03770 España;X-APPLE-RADIUS=500;X-TITLE=C/ Abadia\, 2:geo:0.0103199,38.842789
END:VEVENT
BEGIN:VEVENT
DTSTART;TZID=Europe/Madrid:20251014T170000
DTEND;TZID=Europe/Madrid:20251014T200000
DTSTAMP:20260424T165632
CREATED:20250915T104658Z
LAST-MODIFIED:20250915T104658Z
UID:10026415-1760461200-1760472000@www.elverger.es
SUMMARY:Exposició Col·lectiva
DESCRIPTION:
URL:https://www.elverger.es/event/exposicio-collectiva/2025-10-14/
LOCATION:Torre dels Ducs de Medinaceli\, C/ Abadia\, 2\, El Verger\, Alacant\, 03770\, España
ATTACH;FMTTYPE=image/jpeg:https://www.elverger.es/wp-content/uploads/2025/09/exposicio-collectiva.jpg
GEO:38.842789;0.0103199
X-APPLE-STRUCTURED-LOCATION;VALUE=URI;X-ADDRESS=Torre dels Ducs de Medinaceli C/ Abadia 2 El Verger Alacant 03770 España;X-APPLE-RADIUS=500;X-TITLE=C/ Abadia\, 2:geo:0.0103199,38.842789
END:VEVENT
BEGIN:VEVENT
DTSTART;TZID=Europe/Madrid:20251015T170000
DTEND;TZID=Europe/Madrid:20251015T200000
DTSTAMP:20260424T165632
CREATED:20250915T104658Z
LAST-MODIFIED:20250915T104658Z
UID:10026416-1760547600-1760558400@www.elverger.es
SUMMARY:Exposició Col·lectiva
DESCRIPTION:
URL:https://www.elverger.es/event/exposicio-collectiva/2025-10-15/
LOCATION:Torre dels Ducs de Medinaceli\, C/ Abadia\, 2\, El Verger\, Alacant\, 03770\, España
ATTACH;FMTTYPE=image/jpeg:https://www.elverger.es/wp-content/uploads/2025/09/exposicio-collectiva.jpg
GEO:38.842789;0.0103199
X-APPLE-STRUCTURED-LOCATION;VALUE=URI;X-ADDRESS=Torre dels Ducs de Medinaceli C/ Abadia 2 El Verger Alacant 03770 España;X-APPLE-RADIUS=500;X-TITLE=C/ Abadia\, 2:geo:0.0103199,38.842789
END:VEVENT
BEGIN:VEVENT
DTSTART;TZID=Europe/Madrid:20251016T170000
DTEND;TZID=Europe/Madrid:20251016T200000
DTSTAMP:20260424T165632
CREATED:20250915T104658Z
LAST-MODIFIED:20250915T104658Z
UID:10026417-1760634000-1760644800@www.elverger.es
SUMMARY:Exposició Col·lectiva
DESCRIPTION:
URL:https://www.elverger.es/event/exposicio-collectiva/2025-10-16/
LOCATION:Torre dels Ducs de Medinaceli\, C/ Abadia\, 2\, El Verger\, Alacant\, 03770\, España
ATTACH;FMTTYPE=image/jpeg:https://www.elverger.es/wp-content/uploads/2025/09/exposicio-collectiva.jpg
GEO:38.842789;0.0103199
X-APPLE-STRUCTURED-LOCATION;VALUE=URI;X-ADDRESS=Torre dels Ducs de Medinaceli C/ Abadia 2 El Verger Alacant 03770 España;X-APPLE-RADIUS=500;X-TITLE=C/ Abadia\, 2:geo:0.0103199,38.842789
END:VEVENT
BEGIN:VEVENT
DTSTART;TZID=Europe/Madrid:20251017T170000
DTEND;TZID=Europe/Madrid:20251017T200000
DTSTAMP:20260424T165632
CREATED:20250915T104658Z
LAST-MODIFIED:20250915T104658Z
UID:10026418-1760720400-1760731200@www.elverger.es
SUMMARY:Exposició Col·lectiva
DESCRIPTION:
URL:https://www.elverger.es/event/exposicio-collectiva/2025-10-17/
LOCATION:Torre dels Ducs de Medinaceli\, C/ Abadia\, 2\, El Verger\, Alacant\, 03770\, España
ATTACH;FMTTYPE=image/jpeg:https://www.elverger.es/wp-content/uploads/2025/09/exposicio-collectiva.jpg
GEO:38.842789;0.0103199
X-APPLE-STRUCTURED-LOCATION;VALUE=URI;X-ADDRESS=Torre dels Ducs de Medinaceli C/ Abadia 2 El Verger Alacant 03770 España;X-APPLE-RADIUS=500;X-TITLE=C/ Abadia\, 2:geo:0.0103199,38.842789
END:VEVENT
BEGIN:VEVENT
DTSTART;TZID=Europe/Madrid:20251018T170000
DTEND;TZID=Europe/Madrid:20251018T200000
DTSTAMP:20260424T165632
CREATED:20250915T104658Z
LAST-MODIFIED:20250915T104658Z
UID:10026419-1760806800-1760817600@www.elverger.es
SUMMARY:Exposició Col·lectiva
DESCRIPTION:
URL:https://www.elverger.es/event/exposicio-collectiva/2025-10-18/
LOCATION:Torre dels Ducs de Medinaceli\, C/ Abadia\, 2\, El Verger\, Alacant\, 03770\, España
ATTACH;FMTTYPE=image/jpeg:https://www.elverger.es/wp-content/uploads/2025/09/exposicio-collectiva.jpg
GEO:38.842789;0.0103199
X-APPLE-STRUCTURED-LOCATION;VALUE=URI;X-ADDRESS=Torre dels Ducs de Medinaceli C/ Abadia 2 El Verger Alacant 03770 España;X-APPLE-RADIUS=500;X-TITLE=C/ Abadia\, 2:geo:0.0103199,38.842789
END:VEVENT
BEGIN:VEVENT
DTSTART;TZID=Europe/Madrid:20251021T170000
DTEND;TZID=Europe/Madrid:20251021T200000
DTSTAMP:20260424T165632
CREATED:20250915T104658Z
LAST-MODIFIED:20250915T104658Z
UID:10026420-1761066000-1761076800@www.elverger.es
SUMMARY:Exposició Col·lectiva
DESCRIPTION:
URL:https://www.elverger.es/event/exposicio-collectiva/2025-10-21/
LOCATION:Torre dels Ducs de Medinaceli\, C/ Abadia\, 2\, El Verger\, Alacant\, 03770\, España
ATTACH;FMTTYPE=image/jpeg:https://www.elverger.es/wp-content/uploads/2025/09/exposicio-collectiva.jpg
GEO:38.842789;0.0103199
X-APPLE-STRUCTURED-LOCATION;VALUE=URI;X-ADDRESS=Torre dels Ducs de Medinaceli C/ Abadia 2 El Verger Alacant 03770 España;X-APPLE-RADIUS=500;X-TITLE=C/ Abadia\, 2:geo:0.0103199,38.842789
END:VEVENT
BEGIN:VEVENT
DTSTART;TZID=Europe/Madrid:20251022T170000
DTEND;TZID=Europe/Madrid:20251022T200000
DTSTAMP:20260424T165632
CREATED:20250915T104658Z
LAST-MODIFIED:20250915T104658Z
UID:10026421-1761152400-1761163200@www.elverger.es
SUMMARY:Exposició Col·lectiva
DESCRIPTION:
URL:https://www.elverger.es/event/exposicio-collectiva/2025-10-22/
LOCATION:Torre dels Ducs de Medinaceli\, C/ Abadia\, 2\, El Verger\, Alacant\, 03770\, España
ATTACH;FMTTYPE=image/jpeg:https://www.elverger.es/wp-content/uploads/2025/09/exposicio-collectiva.jpg
GEO:38.842789;0.0103199
X-APPLE-STRUCTURED-LOCATION;VALUE=URI;X-ADDRESS=Torre dels Ducs de Medinaceli C/ Abadia 2 El Verger Alacant 03770 España;X-APPLE-RADIUS=500;X-TITLE=C/ Abadia\, 2:geo:0.0103199,38.842789
END:VEVENT
BEGIN:VEVENT
DTSTART;TZID=Europe/Madrid:20251023T170000
DTEND;TZID=Europe/Madrid:20251023T200000
DTSTAMP:20260424T165632
CREATED:20250915T104658Z
LAST-MODIFIED:20250915T104658Z
UID:10026422-1761238800-1761249600@www.elverger.es
SUMMARY:Exposició Col·lectiva
DESCRIPTION:
URL:https://www.elverger.es/event/exposicio-collectiva/2025-10-23/
LOCATION:Torre dels Ducs de Medinaceli\, C/ Abadia\, 2\, El Verger\, Alacant\, 03770\, España
ATTACH;FMTTYPE=image/jpeg:https://www.elverger.es/wp-content/uploads/2025/09/exposicio-collectiva.jpg
GEO:38.842789;0.0103199
X-APPLE-STRUCTURED-LOCATION;VALUE=URI;X-ADDRESS=Torre dels Ducs de Medinaceli C/ Abadia 2 El Verger Alacant 03770 España;X-APPLE-RADIUS=500;X-TITLE=C/ Abadia\, 2:geo:0.0103199,38.842789
END:VEVENT
BEGIN:VEVENT
DTSTART;TZID=Europe/Madrid:20251024T170000
DTEND;TZID=Europe/Madrid:20251024T200000
DTSTAMP:20260424T165632
CREATED:20250915T104658Z
LAST-MODIFIED:20250915T104658Z
UID:10026423-1761325200-1761336000@www.elverger.es
SUMMARY:Exposició Col·lectiva
DESCRIPTION:
URL:https://www.elverger.es/event/exposicio-collectiva/2025-10-24/
LOCATION:Torre dels Ducs de Medinaceli\, C/ Abadia\, 2\, El Verger\, Alacant\, 03770\, España
ATTACH;FMTTYPE=image/jpeg:https://www.elverger.es/wp-content/uploads/2025/09/exposicio-collectiva.jpg
GEO:38.842789;0.0103199
X-APPLE-STRUCTURED-LOCATION;VALUE=URI;X-ADDRESS=Torre dels Ducs de Medinaceli C/ Abadia 2 El Verger Alacant 03770 España;X-APPLE-RADIUS=500;X-TITLE=C/ Abadia\, 2:geo:0.0103199,38.842789
END:VEVENT
BEGIN:VEVENT
DTSTART;TZID=Europe/Madrid:20251025T170000
DTEND;TZID=Europe/Madrid:20251025T200000
DTSTAMP:20260424T165632
CREATED:20250915T104658Z
LAST-MODIFIED:20250915T104658Z
UID:10026424-1761411600-1761422400@www.elverger.es
SUMMARY:Exposició Col·lectiva
DESCRIPTION:
URL:https://www.elverger.es/event/exposicio-collectiva/2025-10-25/
LOCATION:Torre dels Ducs de Medinaceli\, C/ Abadia\, 2\, El Verger\, Alacant\, 03770\, España
ATTACH;FMTTYPE=image/jpeg:https://www.elverger.es/wp-content/uploads/2025/09/exposicio-collectiva.jpg
GEO:38.842789;0.0103199
X-APPLE-STRUCTURED-LOCATION;VALUE=URI;X-ADDRESS=Torre dels Ducs de Medinaceli C/ Abadia 2 El Verger Alacant 03770 España;X-APPLE-RADIUS=500;X-TITLE=C/ Abadia\, 2:geo:0.0103199,38.842789
END:VEVENT
END:VCALENDAR