BEGIN:VCALENDAR
VERSION:2.0
PRODID:-//Ajuntament de El Verger - ECPv6.15.17//NONSGML v1.0//EN
CALSCALE:GREGORIAN
METHOD:PUBLISH
X-ORIGINAL-URL:https://www.elverger.es
X-WR-CALDESC:Esdeveniments per Ajuntament de El Verger
REFRESH-INTERVAL;VALUE=DURATION:PT1H
X-Robots-Tag:noindex
X-PUBLISHED-TTL:PT1H
BEGIN:VTIMEZONE
TZID:Europe/Madrid
BEGIN:DAYLIGHT
TZOFFSETFROM:+0100
TZOFFSETTO:+0200
TZNAME:CEST
DTSTART:20240331T010000
END:DAYLIGHT
BEGIN:STANDARD
TZOFFSETFROM:+0200
TZOFFSETTO:+0100
TZNAME:CET
DTSTART:20241027T010000
END:STANDARD
BEGIN:DAYLIGHT
TZOFFSETFROM:+0100
TZOFFSETTO:+0200
TZNAME:CEST
DTSTART:20250330T010000
END:DAYLIGHT
BEGIN:STANDARD
TZOFFSETFROM:+0200
TZOFFSETTO:+0100
TZNAME:CET
DTSTART:20251026T010000
END:STANDARD
BEGIN:DAYLIGHT
TZOFFSETFROM:+0100
TZOFFSETTO:+0200
TZNAME:CEST
DTSTART:20260329T010000
END:DAYLIGHT
BEGIN:STANDARD
TZOFFSETFROM:+0200
TZOFFSETTO:+0100
TZNAME:CET
DTSTART:20261025T010000
END:STANDARD
END:VTIMEZONE
BEGIN:VEVENT
DTSTART;TZID=Europe/Madrid:20250318T170000
DTEND;TZID=Europe/Madrid:20250318T200000
DTSTAMP:20260425T142941
CREATED:20250307T130015Z
LAST-MODIFIED:20250307T130015Z
UID:10026335-1742317200-1742328000@www.elverger.es
SUMMARY:Exposició "Pecados de Francis Morell"
DESCRIPTION:
URL:https://www.elverger.es/event/exposicio-pecados-de-francis-morell-2-2/2025-03-18/
LOCATION:Torre dels Ducs de Medinaceli\, C/ Abadia\, 2\, El Verger\, Alacant\, 03770\, España
ATTACH;FMTTYPE=image/jpeg:https://www.elverger.es/wp-content/uploads/2025/03/Pecados-de-Francis-Morell.jpg
GEO:38.842789;0.0103199
X-APPLE-STRUCTURED-LOCATION;VALUE=URI;X-ADDRESS=Torre dels Ducs de Medinaceli C/ Abadia 2 El Verger Alacant 03770 España;X-APPLE-RADIUS=500;X-TITLE=C/ Abadia\, 2:geo:0.0103199,38.842789
END:VEVENT
BEGIN:VEVENT
DTSTART;TZID=Europe/Madrid:20250319T170000
DTEND;TZID=Europe/Madrid:20250319T200000
DTSTAMP:20260425T142941
CREATED:20250307T130015Z
LAST-MODIFIED:20250307T130015Z
UID:10026336-1742403600-1742414400@www.elverger.es
SUMMARY:Exposició "Pecados de Francis Morell"
DESCRIPTION:
URL:https://www.elverger.es/event/exposicio-pecados-de-francis-morell-2-2/2025-03-19/
LOCATION:Torre dels Ducs de Medinaceli\, C/ Abadia\, 2\, El Verger\, Alacant\, 03770\, España
ATTACH;FMTTYPE=image/jpeg:https://www.elverger.es/wp-content/uploads/2025/03/Pecados-de-Francis-Morell.jpg
GEO:38.842789;0.0103199
X-APPLE-STRUCTURED-LOCATION;VALUE=URI;X-ADDRESS=Torre dels Ducs de Medinaceli C/ Abadia 2 El Verger Alacant 03770 España;X-APPLE-RADIUS=500;X-TITLE=C/ Abadia\, 2:geo:0.0103199,38.842789
END:VEVENT
BEGIN:VEVENT
DTSTART;TZID=Europe/Madrid:20250320T170000
DTEND;TZID=Europe/Madrid:20250320T200000
DTSTAMP:20260425T142941
CREATED:20250307T130015Z
LAST-MODIFIED:20250307T130015Z
UID:10026337-1742490000-1742500800@www.elverger.es
SUMMARY:Exposició "Pecados de Francis Morell"
DESCRIPTION:
URL:https://www.elverger.es/event/exposicio-pecados-de-francis-morell-2-2/2025-03-20/
LOCATION:Torre dels Ducs de Medinaceli\, C/ Abadia\, 2\, El Verger\, Alacant\, 03770\, España
ATTACH;FMTTYPE=image/jpeg:https://www.elverger.es/wp-content/uploads/2025/03/Pecados-de-Francis-Morell.jpg
GEO:38.842789;0.0103199
X-APPLE-STRUCTURED-LOCATION;VALUE=URI;X-ADDRESS=Torre dels Ducs de Medinaceli C/ Abadia 2 El Verger Alacant 03770 España;X-APPLE-RADIUS=500;X-TITLE=C/ Abadia\, 2:geo:0.0103199,38.842789
END:VEVENT
BEGIN:VEVENT
DTSTART;TZID=Europe/Madrid:20250322T090000
DTEND;TZID=Europe/Madrid:20250322T233000
DTSTAMP:20260425T142941
CREATED:20250321T104223Z
LAST-MODIFIED:20250321T104439Z
UID:10026355-1742634000-1742686200@www.elverger.es
SUMMARY:Mig any Moro i Cristià
DESCRIPTION:
URL:https://www.elverger.es/event/mig-any-moro-i-cristia/2025-03-22/
LOCATION:Plaça Rei Jaume I\, Plaça Rei Jaume I\, El Verger\, Alicante\, 03770\, España
ATTACH;FMTTYPE=image/jpeg:https://www.elverger.es/wp-content/uploads/2025/03/mig-any.jpg
GEO:38.845292;0.0088063
X-APPLE-STRUCTURED-LOCATION;VALUE=URI;X-ADDRESS=Plaça Rei Jaume I Plaça Rei Jaume I El Verger Alicante 03770 España;X-APPLE-RADIUS=500;X-TITLE=Plaça Rei Jaume I:geo:0.0088063,38.845292
END:VEVENT
BEGIN:VEVENT
DTSTART;TZID=Europe/Madrid:20250322T170000
DTEND;TZID=Europe/Madrid:20250322T200000
DTSTAMP:20260425T142941
CREATED:20250307T130015Z
LAST-MODIFIED:20250307T130015Z
UID:10026339-1742662800-1742673600@www.elverger.es
SUMMARY:Exposició "Pecados de Francis Morell"
DESCRIPTION:
URL:https://www.elverger.es/event/exposicio-pecados-de-francis-morell-2-2/2025-03-22/
LOCATION:Torre dels Ducs de Medinaceli\, C/ Abadia\, 2\, El Verger\, Alacant\, 03770\, España
ATTACH;FMTTYPE=image/jpeg:https://www.elverger.es/wp-content/uploads/2025/03/Pecados-de-Francis-Morell.jpg
GEO:38.842789;0.0103199
X-APPLE-STRUCTURED-LOCATION;VALUE=URI;X-ADDRESS=Torre dels Ducs de Medinaceli C/ Abadia 2 El Verger Alacant 03770 España;X-APPLE-RADIUS=500;X-TITLE=C/ Abadia\, 2:geo:0.0103199,38.842789
END:VEVENT
BEGIN:VEVENT
DTSTART;TZID=Europe/Madrid:20250323T090000
DTEND;TZID=Europe/Madrid:20250323T170000
DTSTAMP:20260425T142941
CREATED:20250321T104223Z
LAST-MODIFIED:20250321T104439Z
UID:10026356-1742720400-1742749200@www.elverger.es
SUMMARY:Mig any Moro i Cristià
DESCRIPTION:
URL:https://www.elverger.es/event/mig-any-moro-i-cristia/2025-03-23/
LOCATION:Plaça Rei Jaume I\, Plaça Rei Jaume I\, El Verger\, Alicante\, 03770\, España
ATTACH;FMTTYPE=image/jpeg:https://www.elverger.es/wp-content/uploads/2025/03/mig-any.jpg
GEO:38.845292;0.0088063
X-APPLE-STRUCTURED-LOCATION;VALUE=URI;X-ADDRESS=Plaça Rei Jaume I Plaça Rei Jaume I El Verger Alicante 03770 España;X-APPLE-RADIUS=500;X-TITLE=Plaça Rei Jaume I:geo:0.0088063,38.845292
END:VEVENT
END:VCALENDAR