BEGIN:VCALENDAR
VERSION:2.0
PRODID:-//Ajuntament de El Verger - ECPv6.15.17//NONSGML v1.0//EN
CALSCALE:GREGORIAN
METHOD:PUBLISH
X-WR-CALNAME:Ajuntament de El Verger
X-ORIGINAL-URL:https://www.elverger.es
X-WR-CALDESC:Esdeveniments per Ajuntament de El Verger
REFRESH-INTERVAL;VALUE=DURATION:PT1H
X-Robots-Tag:noindex
X-PUBLISHED-TTL:PT1H
BEGIN:VTIMEZONE
TZID:Europe/Madrid
BEGIN:DAYLIGHT
TZOFFSETFROM:+0100
TZOFFSETTO:+0200
TZNAME:CEST
DTSTART:20240331T010000
END:DAYLIGHT
BEGIN:STANDARD
TZOFFSETFROM:+0200
TZOFFSETTO:+0100
TZNAME:CET
DTSTART:20241027T010000
END:STANDARD
BEGIN:DAYLIGHT
TZOFFSETFROM:+0100
TZOFFSETTO:+0200
TZNAME:CEST
DTSTART:20250330T010000
END:DAYLIGHT
BEGIN:STANDARD
TZOFFSETFROM:+0200
TZOFFSETTO:+0100
TZNAME:CET
DTSTART:20251026T010000
END:STANDARD
BEGIN:DAYLIGHT
TZOFFSETFROM:+0100
TZOFFSETTO:+0200
TZNAME:CEST
DTSTART:20260329T010000
END:DAYLIGHT
BEGIN:STANDARD
TZOFFSETFROM:+0200
TZOFFSETTO:+0100
TZNAME:CET
DTSTART:20261025T010000
END:STANDARD
END:VTIMEZONE
BEGIN:VEVENT
DTSTART;TZID=Europe/Madrid:20251021T170000
DTEND;TZID=Europe/Madrid:20251021T200000
DTSTAMP:20260424T205129
CREATED:20250915T104658Z
LAST-MODIFIED:20250915T104658Z
UID:10026420-1761066000-1761076800@www.elverger.es
SUMMARY:Exposició Col·lectiva
DESCRIPTION:
URL:https://www.elverger.es/event/exposicio-collectiva/2025-10-21/
LOCATION:Torre dels Ducs de Medinaceli\, C/ Abadia\, 2\, El Verger\, Alacant\, 03770\, España
ATTACH;FMTTYPE=image/jpeg:https://www.elverger.es/wp-content/uploads/2025/09/exposicio-collectiva.jpg
GEO:38.842789;0.0103199
X-APPLE-STRUCTURED-LOCATION;VALUE=URI;X-ADDRESS=Torre dels Ducs de Medinaceli C/ Abadia 2 El Verger Alacant 03770 España;X-APPLE-RADIUS=500;X-TITLE=C/ Abadia\, 2:geo:0.0103199,38.842789
END:VEVENT
BEGIN:VEVENT
DTSTART;TZID=Europe/Madrid:20251022T170000
DTEND;TZID=Europe/Madrid:20251022T200000
DTSTAMP:20260424T205129
CREATED:20250915T104658Z
LAST-MODIFIED:20250915T104658Z
UID:10026421-1761152400-1761163200@www.elverger.es
SUMMARY:Exposició Col·lectiva
DESCRIPTION:
URL:https://www.elverger.es/event/exposicio-collectiva/2025-10-22/
LOCATION:Torre dels Ducs de Medinaceli\, C/ Abadia\, 2\, El Verger\, Alacant\, 03770\, España
ATTACH;FMTTYPE=image/jpeg:https://www.elverger.es/wp-content/uploads/2025/09/exposicio-collectiva.jpg
GEO:38.842789;0.0103199
X-APPLE-STRUCTURED-LOCATION;VALUE=URI;X-ADDRESS=Torre dels Ducs de Medinaceli C/ Abadia 2 El Verger Alacant 03770 España;X-APPLE-RADIUS=500;X-TITLE=C/ Abadia\, 2:geo:0.0103199,38.842789
END:VEVENT
BEGIN:VEVENT
DTSTART;TZID=Europe/Madrid:20251023T170000
DTEND;TZID=Europe/Madrid:20251023T200000
DTSTAMP:20260424T205129
CREATED:20250915T104658Z
LAST-MODIFIED:20250915T104658Z
UID:10026422-1761238800-1761249600@www.elverger.es
SUMMARY:Exposició Col·lectiva
DESCRIPTION:
URL:https://www.elverger.es/event/exposicio-collectiva/2025-10-23/
LOCATION:Torre dels Ducs de Medinaceli\, C/ Abadia\, 2\, El Verger\, Alacant\, 03770\, España
ATTACH;FMTTYPE=image/jpeg:https://www.elverger.es/wp-content/uploads/2025/09/exposicio-collectiva.jpg
GEO:38.842789;0.0103199
X-APPLE-STRUCTURED-LOCATION;VALUE=URI;X-ADDRESS=Torre dels Ducs de Medinaceli C/ Abadia 2 El Verger Alacant 03770 España;X-APPLE-RADIUS=500;X-TITLE=C/ Abadia\, 2:geo:0.0103199,38.842789
END:VEVENT
BEGIN:VEVENT
DTSTART;TZID=Europe/Madrid:20251024T170000
DTEND;TZID=Europe/Madrid:20251024T200000
DTSTAMP:20260424T205129
CREATED:20250915T104658Z
LAST-MODIFIED:20250915T104658Z
UID:10026423-1761325200-1761336000@www.elverger.es
SUMMARY:Exposició Col·lectiva
DESCRIPTION:
URL:https://www.elverger.es/event/exposicio-collectiva/2025-10-24/
LOCATION:Torre dels Ducs de Medinaceli\, C/ Abadia\, 2\, El Verger\, Alacant\, 03770\, España
ATTACH;FMTTYPE=image/jpeg:https://www.elverger.es/wp-content/uploads/2025/09/exposicio-collectiva.jpg
GEO:38.842789;0.0103199
X-APPLE-STRUCTURED-LOCATION;VALUE=URI;X-ADDRESS=Torre dels Ducs de Medinaceli C/ Abadia 2 El Verger Alacant 03770 España;X-APPLE-RADIUS=500;X-TITLE=C/ Abadia\, 2:geo:0.0103199,38.842789
END:VEVENT
BEGIN:VEVENT
DTSTART;TZID=Europe/Madrid:20251025T170000
DTEND;TZID=Europe/Madrid:20251025T200000
DTSTAMP:20260424T205129
CREATED:20250915T104658Z
LAST-MODIFIED:20250915T104658Z
UID:10026424-1761411600-1761422400@www.elverger.es
SUMMARY:Exposició Col·lectiva
DESCRIPTION:
URL:https://www.elverger.es/event/exposicio-collectiva/2025-10-25/
LOCATION:Torre dels Ducs de Medinaceli\, C/ Abadia\, 2\, El Verger\, Alacant\, 03770\, España
ATTACH;FMTTYPE=image/jpeg:https://www.elverger.es/wp-content/uploads/2025/09/exposicio-collectiva.jpg
GEO:38.842789;0.0103199
X-APPLE-STRUCTURED-LOCATION;VALUE=URI;X-ADDRESS=Torre dels Ducs de Medinaceli C/ Abadia 2 El Verger Alacant 03770 España;X-APPLE-RADIUS=500;X-TITLE=C/ Abadia\, 2:geo:0.0103199,38.842789
END:VEVENT
END:VCALENDAR