BEGIN:VCALENDAR
VERSION:2.0
PRODID:-//Ajuntament de El Verger - ECPv6.15.17//NONSGML v1.0//EN
CALSCALE:GREGORIAN
METHOD:PUBLISH
X-ORIGINAL-URL:https://www.elverger.es
X-WR-CALDESC:Esdeveniments per Ajuntament de El Verger
REFRESH-INTERVAL;VALUE=DURATION:PT1H
X-Robots-Tag:noindex
X-PUBLISHED-TTL:PT1H
BEGIN:VTIMEZONE
TZID:Europe/Madrid
BEGIN:DAYLIGHT
TZOFFSETFROM:+0100
TZOFFSETTO:+0200
TZNAME:CEST
DTSTART:20240331T010000
END:DAYLIGHT
BEGIN:STANDARD
TZOFFSETFROM:+0200
TZOFFSETTO:+0100
TZNAME:CET
DTSTART:20241027T010000
END:STANDARD
BEGIN:DAYLIGHT
TZOFFSETFROM:+0100
TZOFFSETTO:+0200
TZNAME:CEST
DTSTART:20250330T010000
END:DAYLIGHT
BEGIN:STANDARD
TZOFFSETFROM:+0200
TZOFFSETTO:+0100
TZNAME:CET
DTSTART:20251026T010000
END:STANDARD
BEGIN:DAYLIGHT
TZOFFSETFROM:+0100
TZOFFSETTO:+0200
TZNAME:CEST
DTSTART:20260329T010000
END:DAYLIGHT
BEGIN:STANDARD
TZOFFSETFROM:+0200
TZOFFSETTO:+0100
TZNAME:CET
DTSTART:20261025T010000
END:STANDARD
END:VTIMEZONE
BEGIN:VEVENT
DTSTART;TZID=Europe/Madrid:20251216T163000
DTEND;TZID=Europe/Madrid:20251216T203000
DTSTAMP:20260424T182221
CREATED:20251215T114412Z
LAST-MODIFIED:20251215T114412Z
UID:10026438-1765902600-1765917000@www.elverger.es
SUMMARY:Donació de sang
DESCRIPTION:
URL:https://www.elverger.es/event/donacio-de-sang-9/
LOCATION:Casa de Cultura\, C/ Mestre Jose Vives\, 8\, El Verger\, Alicante\, 03770\, España
ATTACH;FMTTYPE=image/jpeg:https://www.elverger.es/wp-content/uploads/2025/12/donacio.jpg
GEO:38.8411635;0.0087892
X-APPLE-STRUCTURED-LOCATION;VALUE=URI;X-ADDRESS=Casa de Cultura C/ Mestre Jose Vives 8 El Verger Alicante 03770 España;X-APPLE-RADIUS=500;X-TITLE=C/ Mestre Jose Vives\, 8:geo:0.0087892,38.8411635
END:VEVENT
BEGIN:VEVENT
DTSTART;TZID=Europe/Madrid:20251218T160000
DTEND;TZID=Europe/Madrid:20251218T180000
DTSTAMP:20260424T182221
CREATED:20251215T114257Z
LAST-MODIFIED:20251215T114258Z
UID:10026437-1766073600-1766080800@www.elverger.es
SUMMARY:Serenata Nadalenca
DESCRIPTION:
URL:https://www.elverger.es/event/serenata-nadalenca/
LOCATION:Residència La Saleta\, C/ San Lluís\, 51\, El Verger\, Alacant\, 03770\, España
ATTACH;FMTTYPE=image/jpeg:https://www.elverger.es/wp-content/uploads/2025/12/serenata.jpg
GEO:38.8408268;0.0096728
X-APPLE-STRUCTURED-LOCATION;VALUE=URI;X-ADDRESS=Residència La Saleta C/ San Lluís 51 El Verger Alacant 03770 España;X-APPLE-RADIUS=500;X-TITLE=C/ San Lluís\, 51:geo:0.0096728,38.8408268
END:VEVENT
BEGIN:VEVENT
DTSTART;TZID=Europe/Madrid:20251218T180000
DTEND;TZID=Europe/Madrid:20251218T200000
DTSTAMP:20260424T182221
CREATED:20251215T114954Z
LAST-MODIFIED:20251215T114954Z
UID:10026439-1766080800-1766088000@www.elverger.es
SUMMARY:Exposició de Pintura a càrrec d'Elvira Frasquet
DESCRIPTION:
URL:https://www.elverger.es/event/exposicio-de-pintura-a-carrec-delvira-frasquet/
LOCATION:Alicante
ATTACH;FMTTYPE=image/jpeg:https://www.elverger.es/wp-content/uploads/2025/12/exposicio.jpg
END:VEVENT
BEGIN:VEVENT
DTSTART;TZID=Europe/Madrid:20251218T190000
DTEND;TZID=Europe/Madrid:20251218T210000
DTSTAMP:20260424T182221
CREATED:20251218T082036Z
LAST-MODIFIED:20251218T082036Z
UID:10026445-1766084400-1766091600@www.elverger.es
SUMMARY:Exposició aigua\, pedra\, buit de Juan Tàrrega
DESCRIPTION:
URL:https://www.elverger.es/event/exposicio-aigua-pedra-buit-de-juan-tarrega/
LOCATION:Torre dels Ducs de Medinaceli\, C/ Abadia\, 2\, El Verger\, Alacant\, 03770\, España
ATTACH;FMTTYPE=image/jpeg:https://www.elverger.es/wp-content/uploads/2025/12/exposicio-aigua-pedra-buit.jpg
GEO:38.842789;0.0103199
X-APPLE-STRUCTURED-LOCATION;VALUE=URI;X-ADDRESS=Torre dels Ducs de Medinaceli C/ Abadia 2 El Verger Alacant 03770 España;X-APPLE-RADIUS=500;X-TITLE=C/ Abadia\, 2:geo:0.0103199,38.842789
END:VEVENT
BEGIN:VEVENT
DTSTART;TZID=Europe/Madrid:20251219T170000
DTEND;TZID=Europe/Madrid:20251219T200000
DTSTAMP:20260424T182221
CREATED:20251218T082303Z
LAST-MODIFIED:20251218T082507Z
UID:10026447-1766163600-1766174400@www.elverger.es
SUMMARY:Exposició aigua\, pedra\, buit de Juan Tàrrega
DESCRIPTION:
URL:https://www.elverger.es/event/exposicio-aigua-pedra-buit-de-juan-tarrega-2/2025-12-19/
LOCATION:Torre dels Ducs de Medinaceli\, C/ Abadia\, 2\, El Verger\, Alacant\, 03770\, España
ATTACH;FMTTYPE=image/jpeg:https://www.elverger.es/wp-content/uploads/2025/12/exposicio-aigua-pedra-buit.jpg
GEO:38.842789;0.0103199
X-APPLE-STRUCTURED-LOCATION;VALUE=URI;X-ADDRESS=Torre dels Ducs de Medinaceli C/ Abadia 2 El Verger Alacant 03770 España;X-APPLE-RADIUS=500;X-TITLE=C/ Abadia\, 2:geo:0.0103199,38.842789
END:VEVENT
BEGIN:VEVENT
DTSTART;TZID=Europe/Madrid:20251219T190000
DTEND;TZID=Europe/Madrid:20251219T203000
DTSTAMP:20260424T182221
CREATED:20251215T114115Z
LAST-MODIFIED:20251215T114115Z
UID:10026436-1766170800-1766176200@www.elverger.es
SUMMARY:La Veu de Nadal La Gent Gran del Verger
DESCRIPTION:
URL:https://www.elverger.es/event/la-veu-de-nadal-la-gent-gran-del-verger/
LOCATION:Carrer de la Pilota\, C/ Xabia\, El Verger\, Alacant\, 03770\, España
ATTACH;FMTTYPE=image/jpeg:https://www.elverger.es/wp-content/uploads/2025/12/la-veu-de-nadal.jpg
GEO:38.8432005;0.0150727
X-APPLE-STRUCTURED-LOCATION;VALUE=URI;X-ADDRESS=Carrer de la Pilota C/ Xabia El Verger Alacant 03770 España;X-APPLE-RADIUS=500;X-TITLE=C/ Xabia:geo:0.0150727,38.8432005
END:VEVENT
BEGIN:VEVENT
DTSTART;TZID=Europe/Madrid:20251220T170000
DTEND;TZID=Europe/Madrid:20251220T200000
DTSTAMP:20260424T182221
CREATED:20251218T082303Z
LAST-MODIFIED:20251218T082507Z
UID:10026448-1766250000-1766260800@www.elverger.es
SUMMARY:Exposició aigua\, pedra\, buit de Juan Tàrrega
DESCRIPTION:
URL:https://www.elverger.es/event/exposicio-aigua-pedra-buit-de-juan-tarrega-2/2025-12-20/
LOCATION:Torre dels Ducs de Medinaceli\, C/ Abadia\, 2\, El Verger\, Alacant\, 03770\, España
ATTACH;FMTTYPE=image/jpeg:https://www.elverger.es/wp-content/uploads/2025/12/exposicio-aigua-pedra-buit.jpg
GEO:38.842789;0.0103199
X-APPLE-STRUCTURED-LOCATION;VALUE=URI;X-ADDRESS=Torre dels Ducs de Medinaceli C/ Abadia 2 El Verger Alacant 03770 España;X-APPLE-RADIUS=500;X-TITLE=C/ Abadia\, 2:geo:0.0103199,38.842789
END:VEVENT
BEGIN:VEVENT
DTSTART;TZID=Europe/Madrid:20251220T170000
DTEND;TZID=Europe/Madrid:20251220T210000
DTSTAMP:20260424T182221
CREATED:20251215T115725Z
LAST-MODIFIED:20251215T115725Z
UID:10026440-1766250000-1766264400@www.elverger.es
SUMMARY:Programació Reis 2026 El Verger
DESCRIPTION:
URL:https://www.elverger.es/event/programacio-reis-2026-el-verger/
LOCATION:Fàbrica de Sabó\, C/ San Antonio\, 2\, El Verger\, Alicante\, 03770\, España
ATTACH;FMTTYPE=image/jpeg:https://www.elverger.es/wp-content/uploads/2025/12/programacio1.jpeg
GEO:38.8411167;0.0100748
X-APPLE-STRUCTURED-LOCATION;VALUE=URI;X-ADDRESS=Fàbrica de Sabó C/ San Antonio 2 El Verger Alicante 03770 España;X-APPLE-RADIUS=500;X-TITLE=C/ San Antonio\, 2:geo:0.0100748,38.8411167
END:VEVENT
END:VCALENDAR