BEGIN:VCALENDAR
VERSION:2.0
PRODID:-//Ajuntament de El Verger - ECPv6.15.17//NONSGML v1.0//EN
CALSCALE:GREGORIAN
METHOD:PUBLISH
X-ORIGINAL-URL:https://www.elverger.es
X-WR-CALDESC:Esdeveniments per Ajuntament de El Verger
REFRESH-INTERVAL;VALUE=DURATION:PT1H
X-Robots-Tag:noindex
X-PUBLISHED-TTL:PT1H
BEGIN:VTIMEZONE
TZID:Europe/Madrid
BEGIN:DAYLIGHT
TZOFFSETFROM:+0100
TZOFFSETTO:+0200
TZNAME:CEST
DTSTART:20240331T010000
END:DAYLIGHT
BEGIN:STANDARD
TZOFFSETFROM:+0200
TZOFFSETTO:+0100
TZNAME:CET
DTSTART:20241027T010000
END:STANDARD
BEGIN:DAYLIGHT
TZOFFSETFROM:+0100
TZOFFSETTO:+0200
TZNAME:CEST
DTSTART:20250330T010000
END:DAYLIGHT
BEGIN:STANDARD
TZOFFSETFROM:+0200
TZOFFSETTO:+0100
TZNAME:CET
DTSTART:20251026T010000
END:STANDARD
BEGIN:DAYLIGHT
TZOFFSETFROM:+0100
TZOFFSETTO:+0200
TZNAME:CEST
DTSTART:20260329T010000
END:DAYLIGHT
BEGIN:STANDARD
TZOFFSETFROM:+0200
TZOFFSETTO:+0100
TZNAME:CET
DTSTART:20261025T010000
END:STANDARD
BEGIN:DAYLIGHT
TZOFFSETFROM:+0100
TZOFFSETTO:+0200
TZNAME:CEST
DTSTART:20270328T010000
END:DAYLIGHT
BEGIN:STANDARD
TZOFFSETFROM:+0200
TZOFFSETTO:+0100
TZNAME:CET
DTSTART:20271031T010000
END:STANDARD
END:VTIMEZONE
BEGIN:VEVENT
DTSTART;TZID=Europe/Madrid:20251230T170000
DTEND;TZID=Europe/Madrid:20251230T200000
DTSTAMP:20260425T011325
CREATED:20251218T082303Z
LAST-MODIFIED:20251218T082507Z
UID:10026454-1767114000-1767124800@www.elverger.es
SUMMARY:Exposició aigua\, pedra\, buit de Juan Tàrrega
DESCRIPTION:
URL:https://www.elverger.es/event/exposicio-aigua-pedra-buit-de-juan-tarrega-2/2025-12-30/
LOCATION:Torre dels Ducs de Medinaceli\, C/ Abadia\, 2\, El Verger\, Alacant\, 03770\, España
ATTACH;FMTTYPE=image/jpeg:https://www.elverger.es/wp-content/uploads/2025/12/exposicio-aigua-pedra-buit.jpg
GEO:38.842789;0.0103199
X-APPLE-STRUCTURED-LOCATION;VALUE=URI;X-ADDRESS=Torre dels Ducs de Medinaceli C/ Abadia 2 El Verger Alacant 03770 España;X-APPLE-RADIUS=500;X-TITLE=C/ Abadia\, 2:geo:0.0103199,38.842789
END:VEVENT
BEGIN:VEVENT
DTSTART;TZID=Europe/Madrid:20251230T190000
DTEND;TZID=Europe/Madrid:20251230T200000
DTSTAMP:20260425T011325
CREATED:20251215T122305Z
LAST-MODIFIED:20251215T122305Z
UID:10026442-1767121200-1767124800@www.elverger.es
SUMMARY:Programació Reis 2026 El Verger
DESCRIPTION:
URL:https://www.elverger.es/event/programacio-reis-2026-el-verger-2/
LOCATION:Casa de Cultura\, C/ Mestre Jose Vives\, 8\, El Verger\, Alicante\, 03770\, España
ATTACH;FMTTYPE=image/jpeg:https://www.elverger.es/wp-content/uploads/2025/12/programacio2.jpeg
GEO:38.8411635;0.0087892
X-APPLE-STRUCTURED-LOCATION;VALUE=URI;X-ADDRESS=Casa de Cultura C/ Mestre Jose Vives 8 El Verger Alicante 03770 España;X-APPLE-RADIUS=500;X-TITLE=C/ Mestre Jose Vives\, 8:geo:0.0087892,38.8411635
END:VEVENT
BEGIN:VEVENT
DTSTART;TZID=Europe/Madrid:20251231T170000
DTEND;TZID=Europe/Madrid:20251231T200000
DTSTAMP:20260425T011325
CREATED:20251218T082303Z
LAST-MODIFIED:20251218T082507Z
UID:10026455-1767200400-1767211200@www.elverger.es
SUMMARY:Exposició aigua\, pedra\, buit de Juan Tàrrega
DESCRIPTION:
URL:https://www.elverger.es/event/exposicio-aigua-pedra-buit-de-juan-tarrega-2/2025-12-31/
LOCATION:Torre dels Ducs de Medinaceli\, C/ Abadia\, 2\, El Verger\, Alacant\, 03770\, España
ATTACH;FMTTYPE=image/jpeg:https://www.elverger.es/wp-content/uploads/2025/12/exposicio-aigua-pedra-buit.jpg
GEO:38.842789;0.0103199
X-APPLE-STRUCTURED-LOCATION;VALUE=URI;X-ADDRESS=Torre dels Ducs de Medinaceli C/ Abadia 2 El Verger Alacant 03770 España;X-APPLE-RADIUS=500;X-TITLE=C/ Abadia\, 2:geo:0.0103199,38.842789
END:VEVENT
BEGIN:VEVENT
DTSTART;TZID=Europe/Madrid:20260101T170000
DTEND;TZID=Europe/Madrid:20260101T200000
DTSTAMP:20260425T011325
CREATED:20251218T082303Z
LAST-MODIFIED:20251218T082507Z
UID:10026456-1767286800-1767297600@www.elverger.es
SUMMARY:Exposició aigua\, pedra\, buit de Juan Tàrrega
DESCRIPTION:
URL:https://www.elverger.es/event/exposicio-aigua-pedra-buit-de-juan-tarrega-2/2026-01-01/
LOCATION:Torre dels Ducs de Medinaceli\, C/ Abadia\, 2\, El Verger\, Alacant\, 03770\, España
ATTACH;FMTTYPE=image/jpeg:https://www.elverger.es/wp-content/uploads/2025/12/exposicio-aigua-pedra-buit.jpg
GEO:38.842789;0.0103199
X-APPLE-STRUCTURED-LOCATION;VALUE=URI;X-ADDRESS=Torre dels Ducs de Medinaceli C/ Abadia 2 El Verger Alacant 03770 España;X-APPLE-RADIUS=500;X-TITLE=C/ Abadia\, 2:geo:0.0103199,38.842789
END:VEVENT
BEGIN:VEVENT
DTSTART;TZID=Europe/Madrid:20260102T170000
DTEND;TZID=Europe/Madrid:20260102T200000
DTSTAMP:20260425T011325
CREATED:20251218T082303Z
LAST-MODIFIED:20251218T082507Z
UID:10026457-1767373200-1767384000@www.elverger.es
SUMMARY:Exposició aigua\, pedra\, buit de Juan Tàrrega
DESCRIPTION:
URL:https://www.elverger.es/event/exposicio-aigua-pedra-buit-de-juan-tarrega-2/2026-01-02/
LOCATION:Torre dels Ducs de Medinaceli\, C/ Abadia\, 2\, El Verger\, Alacant\, 03770\, España
ATTACH;FMTTYPE=image/jpeg:https://www.elverger.es/wp-content/uploads/2025/12/exposicio-aigua-pedra-buit.jpg
GEO:38.842789;0.0103199
X-APPLE-STRUCTURED-LOCATION;VALUE=URI;X-ADDRESS=Torre dels Ducs de Medinaceli C/ Abadia 2 El Verger Alacant 03770 España;X-APPLE-RADIUS=500;X-TITLE=C/ Abadia\, 2:geo:0.0103199,38.842789
END:VEVENT
BEGIN:VEVENT
DTSTART;TZID=Europe/Madrid:20260103T170000
DTEND;TZID=Europe/Madrid:20260103T200000
DTSTAMP:20260425T011325
CREATED:20251218T082303Z
LAST-MODIFIED:20251218T082507Z
UID:10026458-1767459600-1767470400@www.elverger.es
SUMMARY:Exposició aigua\, pedra\, buit de Juan Tàrrega
DESCRIPTION:
URL:https://www.elverger.es/event/exposicio-aigua-pedra-buit-de-juan-tarrega-2/2026-01-03/
LOCATION:Torre dels Ducs de Medinaceli\, C/ Abadia\, 2\, El Verger\, Alacant\, 03770\, España
ATTACH;FMTTYPE=image/jpeg:https://www.elverger.es/wp-content/uploads/2025/12/exposicio-aigua-pedra-buit.jpg
GEO:38.842789;0.0103199
X-APPLE-STRUCTURED-LOCATION;VALUE=URI;X-ADDRESS=Torre dels Ducs de Medinaceli C/ Abadia 2 El Verger Alacant 03770 España;X-APPLE-RADIUS=500;X-TITLE=C/ Abadia\, 2:geo:0.0103199,38.842789
END:VEVENT
END:VCALENDAR