BEGIN:VCALENDAR
VERSION:2.0
PRODID:-//Ajuntament de El Verger - ECPv6.15.17//NONSGML v1.0//EN
CALSCALE:GREGORIAN
METHOD:PUBLISH
X-WR-CALNAME:Ajuntament de El Verger
X-ORIGINAL-URL:https://www.elverger.es
X-WR-CALDESC:Esdeveniments per Ajuntament de El Verger
REFRESH-INTERVAL;VALUE=DURATION:PT1H
X-Robots-Tag:noindex
X-PUBLISHED-TTL:PT1H
BEGIN:VTIMEZONE
TZID:Europe/Madrid
BEGIN:DAYLIGHT
TZOFFSETFROM:+0100
TZOFFSETTO:+0200
TZNAME:CEST
DTSTART:20250330T010000
END:DAYLIGHT
BEGIN:STANDARD
TZOFFSETFROM:+0200
TZOFFSETTO:+0100
TZNAME:CET
DTSTART:20251026T010000
END:STANDARD
BEGIN:DAYLIGHT
TZOFFSETFROM:+0100
TZOFFSETTO:+0200
TZNAME:CEST
DTSTART:20260329T010000
END:DAYLIGHT
BEGIN:STANDARD
TZOFFSETFROM:+0200
TZOFFSETTO:+0100
TZNAME:CET
DTSTART:20261025T010000
END:STANDARD
BEGIN:DAYLIGHT
TZOFFSETFROM:+0100
TZOFFSETTO:+0200
TZNAME:CEST
DTSTART:20270328T010000
END:DAYLIGHT
BEGIN:STANDARD
TZOFFSETFROM:+0200
TZOFFSETTO:+0100
TZNAME:CET
DTSTART:20271031T010000
END:STANDARD
END:VTIMEZONE
BEGIN:VEVENT
DTSTART;TZID=Europe/Madrid:20260127T170000
DTEND;TZID=Europe/Madrid:20260127T200000
DTSTAMP:20260424T234251
CREATED:20251218T082303Z
LAST-MODIFIED:20251218T082507Z
UID:10026474-1769533200-1769544000@www.elverger.es
SUMMARY:Exposició aigua\, pedra\, buit de Juan Tàrrega
DESCRIPTION:
URL:https://www.elverger.es/event/exposicio-aigua-pedra-buit-de-juan-tarrega-2/2026-01-27/
LOCATION:Torre dels Ducs de Medinaceli\, C/ Abadia\, 2\, El Verger\, Alacant\, 03770\, España
ATTACH;FMTTYPE=image/jpeg:https://www.elverger.es/wp-content/uploads/2025/12/exposicio-aigua-pedra-buit.jpg
GEO:38.842789;0.0103199
X-APPLE-STRUCTURED-LOCATION;VALUE=URI;X-ADDRESS=Torre dels Ducs de Medinaceli C/ Abadia 2 El Verger Alacant 03770 España;X-APPLE-RADIUS=500;X-TITLE=C/ Abadia\, 2:geo:0.0103199,38.842789
END:VEVENT
BEGIN:VEVENT
DTSTART;TZID=Europe/Madrid:20260128T170000
DTEND;TZID=Europe/Madrid:20260128T200000
DTSTAMP:20260424T234251
CREATED:20251218T082303Z
LAST-MODIFIED:20251218T082507Z
UID:10026475-1769619600-1769630400@www.elverger.es
SUMMARY:Exposició aigua\, pedra\, buit de Juan Tàrrega
DESCRIPTION:
URL:https://www.elverger.es/event/exposicio-aigua-pedra-buit-de-juan-tarrega-2/2026-01-28/
LOCATION:Torre dels Ducs de Medinaceli\, C/ Abadia\, 2\, El Verger\, Alacant\, 03770\, España
ATTACH;FMTTYPE=image/jpeg:https://www.elverger.es/wp-content/uploads/2025/12/exposicio-aigua-pedra-buit.jpg
GEO:38.842789;0.0103199
X-APPLE-STRUCTURED-LOCATION;VALUE=URI;X-ADDRESS=Torre dels Ducs de Medinaceli C/ Abadia 2 El Verger Alacant 03770 España;X-APPLE-RADIUS=500;X-TITLE=C/ Abadia\, 2:geo:0.0103199,38.842789
END:VEVENT
BEGIN:VEVENT
DTSTART;TZID=Europe/Madrid:20260129T170000
DTEND;TZID=Europe/Madrid:20260129T200000
DTSTAMP:20260424T234251
CREATED:20251218T082303Z
LAST-MODIFIED:20251218T082507Z
UID:10026476-1769706000-1769716800@www.elverger.es
SUMMARY:Exposició aigua\, pedra\, buit de Juan Tàrrega
DESCRIPTION:
URL:https://www.elverger.es/event/exposicio-aigua-pedra-buit-de-juan-tarrega-2/2026-01-29/
LOCATION:Torre dels Ducs de Medinaceli\, C/ Abadia\, 2\, El Verger\, Alacant\, 03770\, España
ATTACH;FMTTYPE=image/jpeg:https://www.elverger.es/wp-content/uploads/2025/12/exposicio-aigua-pedra-buit.jpg
GEO:38.842789;0.0103199
X-APPLE-STRUCTURED-LOCATION;VALUE=URI;X-ADDRESS=Torre dels Ducs de Medinaceli C/ Abadia 2 El Verger Alacant 03770 España;X-APPLE-RADIUS=500;X-TITLE=C/ Abadia\, 2:geo:0.0103199,38.842789
END:VEVENT
BEGIN:VEVENT
DTSTART;TZID=Europe/Madrid:20260129T173000
DTEND;TZID=Europe/Madrid:20260129T190000
DTSTAMP:20260424T234251
CREATED:20260127T103516Z
LAST-MODIFIED:20260127T103516Z
UID:10028015-1769707800-1769713200@www.elverger.es
SUMMARY:Contacontes
DESCRIPTION:
URL:https://www.elverger.es/event/contacontes/
LOCATION:Casa de Cultura\, C/ Mestre Jose Vives\, 8\, El Verger\, Alicante\, 03770\, España
ATTACH;FMTTYPE=image/jpeg:https://www.elverger.es/wp-content/uploads/2026/01/contacontes.jpg
GEO:38.8411635;0.0087892
X-APPLE-STRUCTURED-LOCATION;VALUE=URI;X-ADDRESS=Casa de Cultura C/ Mestre Jose Vives 8 El Verger Alicante 03770 España;X-APPLE-RADIUS=500;X-TITLE=C/ Mestre Jose Vives\, 8:geo:0.0087892,38.8411635
END:VEVENT
BEGIN:VEVENT
DTSTART;TZID=Europe/Madrid:20260130T170000
DTEND;TZID=Europe/Madrid:20260130T200000
DTSTAMP:20260424T234251
CREATED:20251218T082303Z
LAST-MODIFIED:20251218T082507Z
UID:10026477-1769792400-1769803200@www.elverger.es
SUMMARY:Exposició aigua\, pedra\, buit de Juan Tàrrega
DESCRIPTION:
URL:https://www.elverger.es/event/exposicio-aigua-pedra-buit-de-juan-tarrega-2/2026-01-30/
LOCATION:Torre dels Ducs de Medinaceli\, C/ Abadia\, 2\, El Verger\, Alacant\, 03770\, España
ATTACH;FMTTYPE=image/jpeg:https://www.elverger.es/wp-content/uploads/2025/12/exposicio-aigua-pedra-buit.jpg
GEO:38.842789;0.0103199
X-APPLE-STRUCTURED-LOCATION;VALUE=URI;X-ADDRESS=Torre dels Ducs de Medinaceli C/ Abadia 2 El Verger Alacant 03770 España;X-APPLE-RADIUS=500;X-TITLE=C/ Abadia\, 2:geo:0.0103199,38.842789
END:VEVENT
BEGIN:VEVENT
DTSTART;TZID=Europe/Madrid:20260131T170000
DTEND;TZID=Europe/Madrid:20260131T200000
DTSTAMP:20260424T234251
CREATED:20251218T082303Z
LAST-MODIFIED:20251218T082507Z
UID:10026478-1769878800-1769889600@www.elverger.es
SUMMARY:Exposició aigua\, pedra\, buit de Juan Tàrrega
DESCRIPTION:
URL:https://www.elverger.es/event/exposicio-aigua-pedra-buit-de-juan-tarrega-2/2026-01-31/
LOCATION:Torre dels Ducs de Medinaceli\, C/ Abadia\, 2\, El Verger\, Alacant\, 03770\, España
ATTACH;FMTTYPE=image/jpeg:https://www.elverger.es/wp-content/uploads/2025/12/exposicio-aigua-pedra-buit.jpg
GEO:38.842789;0.0103199
X-APPLE-STRUCTURED-LOCATION;VALUE=URI;X-ADDRESS=Torre dels Ducs de Medinaceli C/ Abadia 2 El Verger Alacant 03770 España;X-APPLE-RADIUS=500;X-TITLE=C/ Abadia\, 2:geo:0.0103199,38.842789
END:VEVENT
END:VCALENDAR