BEGIN:VCALENDAR
VERSION:2.0
PRODID:-//Ajuntament de El Verger - ECPv6.15.17//NONSGML v1.0//EN
CALSCALE:GREGORIAN
METHOD:PUBLISH
X-ORIGINAL-URL:https://www.elverger.es
X-WR-CALDESC:Esdeveniments per Ajuntament de El Verger
REFRESH-INTERVAL;VALUE=DURATION:PT1H
X-Robots-Tag:noindex
X-PUBLISHED-TTL:PT1H
BEGIN:VTIMEZONE
TZID:Europe/Madrid
BEGIN:DAYLIGHT
TZOFFSETFROM:+0100
TZOFFSETTO:+0200
TZNAME:CEST
DTSTART:20210328T010000
END:DAYLIGHT
BEGIN:STANDARD
TZOFFSETFROM:+0200
TZOFFSETTO:+0100
TZNAME:CET
DTSTART:20211031T010000
END:STANDARD
BEGIN:DAYLIGHT
TZOFFSETFROM:+0100
TZOFFSETTO:+0200
TZNAME:CEST
DTSTART:20220327T010000
END:DAYLIGHT
BEGIN:STANDARD
TZOFFSETFROM:+0200
TZOFFSETTO:+0100
TZNAME:CET
DTSTART:20221030T010000
END:STANDARD
BEGIN:DAYLIGHT
TZOFFSETFROM:+0100
TZOFFSETTO:+0200
TZNAME:CEST
DTSTART:20230326T010000
END:DAYLIGHT
BEGIN:STANDARD
TZOFFSETFROM:+0200
TZOFFSETTO:+0100
TZNAME:CET
DTSTART:20231029T010000
END:STANDARD
BEGIN:DAYLIGHT
TZOFFSETFROM:+0100
TZOFFSETTO:+0200
TZNAME:CEST
DTSTART:20240331T010000
END:DAYLIGHT
BEGIN:STANDARD
TZOFFSETFROM:+0200
TZOFFSETTO:+0100
TZNAME:CET
DTSTART:20241027T010000
END:STANDARD
BEGIN:DAYLIGHT
TZOFFSETFROM:+0100
TZOFFSETTO:+0200
TZNAME:CEST
DTSTART:20250330T010000
END:DAYLIGHT
BEGIN:STANDARD
TZOFFSETFROM:+0200
TZOFFSETTO:+0100
TZNAME:CET
DTSTART:20251026T010000
END:STANDARD
BEGIN:DAYLIGHT
TZOFFSETFROM:+0100
TZOFFSETTO:+0200
TZNAME:CEST
DTSTART:20260329T010000
END:DAYLIGHT
BEGIN:STANDARD
TZOFFSETFROM:+0200
TZOFFSETTO:+0100
TZNAME:CET
DTSTART:20261025T010000
END:STANDARD
END:VTIMEZONE
BEGIN:VEVENT
DTSTART;TZID=Europe/Madrid:20250925T110000
DTEND;TZID=Europe/Madrid:20250925T130000
DTSTAMP:20260424T031533
CREATED:20250915T105006Z
LAST-MODIFIED:20250915T105006Z
UID:10026426-1758798000-1758805200@www.elverger.es
SUMMARY:Tallers de prevenció d'Adiccions
DESCRIPTION:
URL:https://www.elverger.es/event/tallers-de-prevencio-dadiccions/2025-09-25/
LOCATION:Col·legi Públic Segaria
ATTACH;FMTTYPE=image/jpeg:https://www.elverger.es/wp-content/uploads/2025/09/tallers-de-prevencio.jpg
END:VEVENT
BEGIN:VEVENT
DTSTART;TZID=Europe/Madrid:20221125T100000
DTEND;TZID=Europe/Madrid:20221125T110000
DTSTAMP:20260424T031533
CREATED:20221123T122118Z
LAST-MODIFIED:20241024T084835Z
UID:10024002-1669370400-1669374000@www.elverger.es
SUMMARY:CUENTA CUENTOS "LA GIRAFA XUFA"
DESCRIPTION:
URL:https://www.elverger.es/event/cuenta-cuentos-la-girafa-xufa/
LOCATION:Col·legi Públic Segaria
ATTACH;FMTTYPE=image/jpeg:https://www.elverger.es/wp-content/uploads/2024/10/Contacontes.jpg
END:VEVENT
BEGIN:VEVENT
DTSTART;TZID=Europe/Madrid:20220730T220000
DTEND;TZID=Europe/Madrid:20220730T233000
DTSTAMP:20260424T031533
CREATED:20220714T083321Z
LAST-MODIFIED:20241024T084801Z
UID:10023053-1659218400-1659223800@www.elverger.es
SUMMARY:PRESENTACIÓN FESTEROS 2022
DESCRIPTION:
URL:https://www.elverger.es/event/presentacio-festers-2022/
LOCATION:Col·legi Públic Segaria
ATTACH;FMTTYPE=image/jpeg:https://www.elverger.es/wp-content/uploads/2024/10/PRESENTACIO.jpg
END:VEVENT
END:VCALENDAR